BEGIN:VCALENDAR
PRODID:-//Ben Fortuna//iCal4j 1.0//EN
VERSION:2.0
CALSCALE:GREGORIAN
X-WR-TIMEZONE:America/Chicago
DESCRIPTION:MBL Games
X-WR-CALNAME:MBL Games
BEGIN:VEVENT
DTSTAMP:20260426T022146Z
DTSTART:20260526T180000
DTEND:20260526T200000
SUMMARY:#165100 Belle Plaine Tigers @ New Prague 9AA Red
LOCATION:Settlers Park\, Field #1
TZID:America/Chicago
UID:mbl_game_165100
END:VEVENT
BEGIN:VEVENT
DTSTAMP:20260426T022146Z
DTSTART:20260519T180000
DTEND:20260519T200000
SUMMARY:#165107 Bloomington Bandits 9AA - Blue @ New Prague 9AA Red
LOCATION:Settlers Park\, Field #1
TZID:America/Chicago
UID:mbl_game_165107
END:VEVENT
BEGIN:VEVENT
DTSTAMP:20260426T022146Z
DTSTART:20260512T173000
DTEND:20260512T193000
SUMMARY:#165114 New Prague 9AA Red @ Chanhassen 9AA - Silver
LOCATION:Chanhassen Rec Center\, Field # 6
TZID:America/Chicago
UID:mbl_game_165114
END:VEVENT
BEGIN:VEVENT
DTSTAMP:20260426T022146Z
DTSTART:20260602T180000
DTEND:20260602T200000
SUMMARY:#165121 Chaska Hawks - Gold @ New Prague 9AA Red
LOCATION:Settlers Park\, Field #1
TZID:America/Chicago
UID:mbl_game_165121
END:VEVENT
BEGIN:VEVENT
DTSTAMP:20260426T022146Z
DTSTART:20260507T180000
DTEND:20260507T200000
SUMMARY:#165123 New Prague 9AA Red @ Belle Plaine Tigers
LOCATION:Fountain Park\, Fountain Park
TZID:America/Chicago
UID:mbl_game_165123
END:VEVENT
BEGIN:VEVENT
DTSTAMP:20260426T022146Z
DTSTART:20260610T200000
DTEND:20260610T220000
SUMMARY:#165124 New Prague 9AA Red @ Bloomington Bandits 9AA - Blue
LOCATION:Hrbek Fields\, Field #7
TZID:America/Chicago
UID:mbl_game_165124
END:VEVENT
BEGIN:VEVENT
DTSTAMP:20260426T022146Z
DTSTART:20260609T180000
DTEND:20260609T200000
SUMMARY:#165125 Chanhassen 9AA - Silver @ New Prague 9AA Red
LOCATION:Settlers Park\, Field #1
TZID:America/Chicago
UID:mbl_game_165125
END:VEVENT
BEGIN:VEVENT
DTSTAMP:20260426T022146Z
DTSTART:20260505T180000
DTEND:20260505T200000
SUMMARY:#165126 New Prague 9AA Red @ Chaska Hawks - Gold
LOCATION:Community Park\, Field #3
TZID:America/Chicago
UID:mbl_game_165126
END:VEVENT
BEGIN:VEVENT
DTSTAMP:20260426T022146Z
DTSTART:20260522T200000
DTEND:20260522T220000
SUMMARY:#165127 New Prague 9AA Red @ Eden Prairie Eagles 9AA
LOCATION:Round Lake Park\, Field #3
TZID:America/Chicago
UID:mbl_game_165127
END:VEVENT
BEGIN:VEVENT
DTSTAMP:20260426T022146Z
DTSTART:20260617T180000
DTEND:20260617T200000
SUMMARY:#165128 Eden Prairie Eagles 9AA @ New Prague 9AA Red
LOCATION:Settlers Park\, Field #1
TZID:America/Chicago
UID:mbl_game_165128
END:VEVENT
BEGIN:VEVENT
DTSTAMP:20260426T022146Z
DTSTART:20260623T180000
DTEND:20260623T200000
SUMMARY:#165135 Prior Lake 9AA Navy @ New Prague 9AA Red
LOCATION:Settlers Park\, Field #1
TZID:America/Chicago
UID:mbl_game_165135
END:VEVENT
BEGIN:VEVENT
DTSTAMP:20260426T022146Z
DTSTART:20260528T174500
DTEND:20260528T194500
SUMMARY:#165136 New Prague 9AA Red @ Prior Lake 9AA Navy
LOCATION:Ponds\, Field #2
TZID:America/Chicago
UID:mbl_game_165136
END:VEVENT
BEGIN:VEVENT
DTSTAMP:20260426T022146Z
DTSTART:20260618T180000
DTEND:20260618T200000
SUMMARY:#165142 Prior Lake 9AA Gold @ New Prague 9AA Red
LOCATION:Settlers Park\, Field #1
TZID:America/Chicago
UID:mbl_game_165142
END:VEVENT
BEGIN:VEVENT
DTSTAMP:20260426T022146Z
DTSTART:20260625T180000
DTEND:20260625T200000
SUMMARY:#165191 New Prague 9AA Red @ New Prague 9AA Black
LOCATION:Settlers Park\, Field #1
TZID:America/Chicago
UID:mbl_game_165191
END:VEVENT
END:VCALENDAR
