BEGIN:VCALENDAR
PRODID:-//Ben Fortuna//iCal4j 1.0//EN
VERSION:2.0
CALSCALE:GREGORIAN
X-WR-TIMEZONE:America/Chicago
DESCRIPTION:MBL Games
X-WR-CALNAME:MBL Games
BEGIN:VEVENT
DTSTAMP:20260426T023008Z
DTSTART:20260514T180000
DTEND:20260514T200000
SUMMARY:#170589 New Prague 10A @ Westonka 10A Red
LOCATION:Wolner Field\, Field #1
TZID:America/Chicago
UID:mbl_game_170589
END:VEVENT
BEGIN:VEVENT
DTSTAMP:20260426T023008Z
DTSTART:20260521T180000
DTEND:20260521T200000
SUMMARY:#170640 Tri-City United Titans Black @ New Prague 10A
LOCATION:New Prague - Northside Park\, Northside Park
TZID:America/Chicago
UID:mbl_game_170640
END:VEVENT
BEGIN:VEVENT
DTSTAMP:20260426T023008Z
DTSTART:20260601T180000
DTEND:20260601T200000
SUMMARY:#170641 New Prague 10A @ Tri-City United Titans Silver
LOCATION:Northside Park\, Northside Park # 2
TZID:America/Chicago
UID:mbl_game_170641
END:VEVENT
BEGIN:VEVENT
DTSTAMP:20260426T023008Z
DTSTART:20260513T180000
DTEND:20260513T200000
SUMMARY:#170646 Chaska Hawks @ New Prague 10A
LOCATION:New Prague - Northside Park\, Northside Park
TZID:America/Chicago
UID:mbl_game_170646
END:VEVENT
BEGIN:VEVENT
DTSTAMP:20260426T023008Z
DTSTART:20260527T180000
DTEND:20260527T200000
SUMMARY:#170653 Prior Lake 10A Gold @ New Prague 10A
LOCATION:New Prague - Northside Park\, Northside Park
TZID:America/Chicago
UID:mbl_game_170653
END:VEVENT
BEGIN:VEVENT
DTSTAMP:20260426T023008Z
DTSTART:20260519T180000
DTEND:20260519T200000
SUMMARY:#170654 New Prague 10A @ Waconia Wildcats (Gold)
LOCATION:St Bonifacius Townsedge Field\, Townsedge Field
TZID:America/Chicago
UID:mbl_game_170654
END:VEVENT
BEGIN:VEVENT
DTSTAMP:20260426T023008Z
DTSTART:20260518T194500
DTEND:20260518T214500
SUMMARY:#170665 New Prague 10A @ Prior Lake 10A Gold
LOCATION:Ponds\, Field #6
TZID:America/Chicago
UID:mbl_game_170665
END:VEVENT
BEGIN:VEVENT
DTSTAMP:20260426T023008Z
DTSTART:20260623T180000
DTEND:20260623T200000
SUMMARY:#170666 New Prague 10A @ Shakopee Sabers
LOCATION:Westminster\, Field #1
TZID:America/Chicago
UID:mbl_game_170666
END:VEVENT
BEGIN:VEVENT
DTSTAMP:20260426T023008Z
DTSTART:20260624T180000
DTEND:20260624T200000
SUMMARY:#170668 Tri-City United Titans Silver @ New Prague 10A
LOCATION:New Prague - Northside Park\, Northside Park
TZID:America/Chicago
UID:mbl_game_170668
END:VEVENT
BEGIN:VEVENT
DTSTAMP:20260426T023008Z
DTSTART:20260528T180000
DTEND:20260528T200000
SUMMARY:#170671 New Prague 10A @ Tri-City United Titans Black
LOCATION:Northside Park\, Northside Park # 1
TZID:America/Chicago
UID:mbl_game_170671
END:VEVENT
BEGIN:VEVENT
DTSTAMP:20260426T023008Z
DTSTART:20260610T173000
DTEND:20260610T193000
SUMMARY:#170672 Waconia Wildcats (Gold) @ New Prague 10A
LOCATION:New Prague - Northside Park\, Northside Park
TZID:America/Chicago
UID:mbl_game_170672
END:VEVENT
BEGIN:VEVENT
DTSTAMP:20260426T023008Z
DTSTART:20260507T180000
DTEND:20260507T200000
SUMMARY:#170675 New Prague 10A @ Chaska Hawks
LOCATION:Augusta\, Augusta
TZID:America/Chicago
UID:mbl_game_170675
END:VEVENT
BEGIN:VEVENT
DTSTAMP:20260426T023008Z
DTSTART:20260617T180000
DTEND:20260617T200000
SUMMARY:#170680 Waconia Wildcats (Purple) @ New Prague 10A
LOCATION:New Prague - Northside Park\, Northside Park
TZID:America/Chicago
UID:mbl_game_170680
END:VEVENT
BEGIN:VEVENT
DTSTAMP:20260426T023008Z
DTSTART:20260502T160000
DTEND:20260502T183000
SUMMARY:#170681 Shakopee Sabers @ New Prague 10A
LOCATION:New Prague - Northside Park\, Northside Park
TZID:America/Chicago
UID:mbl_game_170681
END:VEVENT
END:VCALENDAR
