BEGIN:VCALENDAR
PRODID:-//Ben Fortuna//iCal4j 1.0//EN
VERSION:2.0
CALSCALE:GREGORIAN
X-WR-TIMEZONE:America/Chicago
DESCRIPTION:MBL Games
X-WR-CALNAME:MBL Games
BEGIN:VEVENT
DTSTAMP:20260426T022124Z
DTSTART:20260610T180000
DTEND:20260610T200000
SUMMARY:#166238 New Prague 10AA @ Chaska Hawks
LOCATION:Augusta\, Augusta
TZID:America/Chicago
UID:mbl_game_166238
END:VEVENT
BEGIN:VEVENT
DTSTAMP:20260426T022124Z
DTSTART:20260519T180000
DTEND:20260519T200000
SUMMARY:#166240 Bloomington Bandits @ New Prague 10AA
LOCATION:New Prague - Northside Park\, Northside Park
TZID:America/Chicago
UID:mbl_game_166240
END:VEVENT
BEGIN:VEVENT
DTSTAMP:20260426T022124Z
DTSTART:20260507T174500
DTEND:20260507T194500
SUMMARY:#166241 New Prague 10AA @ Prior Lake 10AA Gold
LOCATION:Ponds\, Field #2
TZID:America/Chicago
UID:mbl_game_166241
END:VEVENT
BEGIN:VEVENT
DTSTAMP:20260426T022124Z
DTSTART:20260625T180000
DTEND:20260625T200000
SUMMARY:#166244 New Prague 10AA @ Belle Plaine Tigers
LOCATION:Meadow Park\, Field #2
TZID:America/Chicago
UID:mbl_game_166244
END:VEVENT
BEGIN:VEVENT
DTSTAMP:20260426T022124Z
DTSTART:20260604T180000
DTEND:20260604T200000
SUMMARY:#166249 Chanhassen 10AA - Gold @ New Prague 10AA
LOCATION:New Prague - Northside Park\, Northside Park
TZID:America/Chicago
UID:mbl_game_166249
END:VEVENT
BEGIN:VEVENT
DTSTAMP:20260426T022124Z
DTSTART:20260505T180000
DTEND:20260505T200000
SUMMARY:#166258 Eden Prairie Eagles 10AA @ New Prague 10AA
LOCATION:New Prague - Northside Park\, Northside Park
TZID:America/Chicago
UID:mbl_game_166258
END:VEVENT
BEGIN:VEVENT
DTSTAMP:20260426T022124Z
DTSTART:20260609T180000
DTEND:20260609T200000
SUMMARY:#166267 Northfield Raiders 10AA @ New Prague 10AA
LOCATION:New Prague - Northside Park\, Northside Park
TZID:America/Chicago
UID:mbl_game_166267
END:VEVENT
BEGIN:VEVENT
DTSTAMP:20260426T022124Z
DTSTART:20260623T180000
DTEND:20260623T200000
SUMMARY:#166276 Belle Plaine Tigers @ New Prague 10AA
LOCATION:New Prague - Northside Park\, Northside Park
TZID:America/Chicago
UID:mbl_game_166276
END:VEVENT
BEGIN:VEVENT
DTSTAMP:20260426T022124Z
DTSTART:20260526T180000
DTEND:20260526T200000
SUMMARY:#166279 New Prague 10AA @ Waconia Waconia Wildcats
LOCATION:St Bonifacius Townsedge Field\, Townsedge Field
TZID:America/Chicago
UID:mbl_game_166279
END:VEVENT
BEGIN:VEVENT
DTSTAMP:20260426T022124Z
DTSTART:20260512T180000
DTEND:20260512T200000
SUMMARY:#166285 Waconia Waconia Wildcats @ New Prague 10AA
LOCATION:New Prague - Northside Park\, Northside Park
TZID:America/Chicago
UID:mbl_game_166285
END:VEVENT
BEGIN:VEVENT
DTSTAMP:20260426T022124Z
DTSTART:20260528T180000
DTEND:20260528T200000
SUMMARY:#166287 New Prague 10AA @ Tri-City United Titans
LOCATION:Lonsdale Jaycee Park\, Field #1
TZID:America/Chicago
UID:mbl_game_166287
END:VEVENT
BEGIN:VEVENT
DTSTAMP:20260426T022124Z
DTSTART:20260428T180000
DTEND:20260428T200000
SUMMARY:#166294 Tri-City United Titans @ New Prague 10AA
LOCATION:New Prague - Northside Park\, Northside Park
TZID:America/Chicago
UID:mbl_game_166294
END:VEVENT
BEGIN:VEVENT
DTSTAMP:20260426T022124Z
DTSTART:20260618T180000
DTEND:20260618T200000
SUMMARY:#166331 New Prague 10AA @ Faribault Falcons
LOCATION:Teepee Tonka\, Field #1
TZID:America/Chicago
UID:mbl_game_166331
END:VEVENT
BEGIN:VEVENT
DTSTAMP:20260426T022124Z
DTSTART:20260520T180000
DTEND:20260520T200000
SUMMARY:#166338 New Prague 10AA @ Northfield Raiders 10AA
LOCATION:Sechler Park\, Softball #1
TZID:America/Chicago
UID:mbl_game_166338
END:VEVENT
END:VCALENDAR
