BEGIN:VCALENDAR
PRODID:-//Ben Fortuna//iCal4j 1.0//EN
VERSION:2.0
CALSCALE:GREGORIAN
X-WR-TIMEZONE:America/Chicago
DESCRIPTION:MBL Games
X-WR-CALNAME:MBL Games
BEGIN:VEVENT
DTSTAMP:20260426T023008Z
DTSTART:20260519T201500
DTEND:20260519T221500
SUMMARY:#164853 New Prague 10AAA @ Minneapolis Millers 10AAA
LOCATION:Neiman\, MSA Batting Cages Field #3
TZID:America/Chicago
UID:mbl_game_164853
END:VEVENT
BEGIN:VEVENT
DTSTAMP:20260426T023008Z
DTSTART:20260520T180000
DTEND:20260520T200000
SUMMARY:#164861 Chanhassen 10AAA - Blue @ New Prague 10AAA
LOCATION:Memorial New Prague\, Memorial Park #2
TZID:America/Chicago
UID:mbl_game_164861
END:VEVENT
BEGIN:VEVENT
DTSTAMP:20260426T023008Z
DTSTART:20260514T180000
DTEND:20260514T200000
SUMMARY:#164868 New Prague 10AAA @ Chaska Hawks
LOCATION:Augusta\, Augusta
TZID:America/Chicago
UID:mbl_game_164868
END:VEVENT
BEGIN:VEVENT
DTSTAMP:20260426T023008Z
DTSTART:20260602T180000
DTEND:20260602T200000
SUMMARY:#164875 Eden Prairie Eagles 10AAA @ New Prague 10AAA
LOCATION:Memorial New Prague\, Memorial Park #2
TZID:America/Chicago
UID:mbl_game_164875
END:VEVENT
BEGIN:VEVENT
DTSTAMP:20260426T023008Z
DTSTART:20260624T193000
DTEND:20260624T213000
SUMMARY:#164878 New Prague 10AAA @ Chanhassen 10AAA - Blue
LOCATION:Lake Ann\, Field #2
TZID:America/Chicago
UID:mbl_game_164878
END:VEVENT
BEGIN:VEVENT
DTSTAMP:20260426T023008Z
DTSTART:20260505T180000
DTEND:20260505T200000
SUMMARY:#164879 Chaska Hawks @ New Prague 10AAA
LOCATION:Memorial New Prague\, Memorial Park #2
TZID:America/Chicago
UID:mbl_game_164879
END:VEVENT
BEGIN:VEVENT
DTSTAMP:20260426T023008Z
DTSTART:20260506T180000
DTEND:20260506T200000
SUMMARY:#164880 New Prague 10AAA @ Eden Prairie Eagles 10AAA
LOCATION:Miller Park\, Field #1
TZID:America/Chicago
UID:mbl_game_164880
END:VEVENT
BEGIN:VEVENT
DTSTAMP:20260426T023008Z
DTSTART:20260626T180000
DTEND:20260626T200000
SUMMARY:#164881 New Prague 10AAA @ Jordan Hubmen
LOCATION:Holzer Memorial Park\, Field #1
TZID:America/Chicago
UID:mbl_game_164881
END:VEVENT
BEGIN:VEVENT
DTSTAMP:20260426T023008Z
DTSTART:20260511T180000
DTEND:20260511T200000
SUMMARY:#164882 Jordan Hubmen @ New Prague 10AAA
LOCATION:New Prague - Northside Park\, Northside Park
TZID:America/Chicago
UID:mbl_game_164882
END:VEVENT
BEGIN:VEVENT
DTSTAMP:20260426T023008Z
DTSTART:20260609T180000
DTEND:20260609T200000
SUMMARY:#164889 Shakopee Sabers @ New Prague 10AAA
LOCATION:Memorial New Prague\, Memorial Park #2
TZID:America/Chicago
UID:mbl_game_164889
END:VEVENT
BEGIN:VEVENT
DTSTAMP:20260426T023008Z
DTSTART:20260629T180000
DTEND:20260629T200000
SUMMARY:#164890 New Prague 10AAA @ Shakopee Sabers
LOCATION:Westminster\, Field #1
TZID:America/Chicago
UID:mbl_game_164890
END:VEVENT
BEGIN:VEVENT
DTSTAMP:20260426T023008Z
DTSTART:20260430T180000
DTEND:20260430T200000
SUMMARY:#164891 New Prague 10AAA @ Waconia Wildcats
LOCATION:St Bonifacius Townsedge Field\, Townsedge Field
TZID:America/Chicago
UID:mbl_game_164891
END:VEVENT
BEGIN:VEVENT
DTSTAMP:20260426T023008Z
DTSTART:20260618T180000
DTEND:20260618T200000
SUMMARY:#164896 Waconia Wildcats @ New Prague 10AAA
LOCATION:New Prague - Northside Park\, Northside Park
TZID:America/Chicago
UID:mbl_game_164896
END:VEVENT
BEGIN:VEVENT
DTSTAMP:20260426T023008Z
DTSTART:20260623T180000
DTEND:20260623T200000
SUMMARY:#164903 Bloomington Bandits @ New Prague 10AAA
LOCATION:Memorial New Prague\, Memorial Park #2
TZID:America/Chicago
UID:mbl_game_164903
END:VEVENT
END:VCALENDAR
