BEGIN:VCALENDAR
PRODID:-//Ben Fortuna//iCal4j 1.0//EN
VERSION:2.0
CALSCALE:GREGORIAN
X-WR-TIMEZONE:America/Chicago
DESCRIPTION:MBL Games
X-WR-CALNAME:MBL Games
BEGIN:VEVENT
DTSTAMP:20260426T023008Z
DTSTART:20260519T174500
DTEND:20260519T194500
SUMMARY:#165869 New Prague 11A @ Prior Lake 11A Gold
LOCATION:Ponds\, Field #5
TZID:America/Chicago
UID:mbl_game_165869
END:VEVENT
BEGIN:VEVENT
DTSTAMP:20260426T023008Z
DTSTART:20260624T180000
DTEND:20260624T200000
SUMMARY:#165881 Chanhassen 11A - Silver @ New Prague 11A
LOCATION:Foundry Hill Park\, Foundry Hill
TZID:America/Chicago
UID:mbl_game_165881
END:VEVENT
BEGIN:VEVENT
DTSTAMP:20260426T023008Z
DTSTART:20260521T180000
DTEND:20260521T200000
SUMMARY:#165888 Waconia Wildcats (Purple) @ New Prague 11A
LOCATION:Foundry Hill Park\, Foundry Hill
TZID:America/Chicago
UID:mbl_game_165888
END:VEVENT
BEGIN:VEVENT
DTSTAMP:20260426T023008Z
DTSTART:20260615T200000
DTEND:20260615T220000
SUMMARY:#165892 New Prague 11A @ Bloomington New Team Blue
LOCATION:Hrbek Fields\, Field #6
TZID:America/Chicago
UID:mbl_game_165892
END:VEVENT
BEGIN:VEVENT
DTSTAMP:20260426T023008Z
DTSTART:20260505T173000
DTEND:20260505T193000
SUMMARY:#165893 New Prague 11A @ Chanhassen 11A - Silver
LOCATION:Lake Ann\, Field #5
TZID:America/Chicago
UID:mbl_game_165893
END:VEVENT
BEGIN:VEVENT
DTSTAMP:20260426T023008Z
DTSTART:20260618T180000
DTEND:20260618T200000
SUMMARY:#165894 New Prague 11A @ Chaska Hawks
LOCATION:Community Park\, Field #3
TZID:America/Chicago
UID:mbl_game_165894
END:VEVENT
BEGIN:VEVENT
DTSTAMP:20260426T023008Z
DTSTART:20260622T180000
DTEND:20260622T200000
SUMMARY:#165895 Bloomington New Team Blue @ New Prague 11A
LOCATION:Foundry Hill Park\, Foundry Hill
TZID:America/Chicago
UID:mbl_game_165895
END:VEVENT
BEGIN:VEVENT
DTSTAMP:20260426T023008Z
DTSTART:20260507T174500
DTEND:20260507T194500
SUMMARY:#165896 New Prague 11A @ Prior Lake 11A White
LOCATION:Ponds\, Field #5
TZID:America/Chicago
UID:mbl_game_165896
END:VEVENT
BEGIN:VEVENT
DTSTAMP:20260426T023008Z
DTSTART:20260623T180000
DTEND:20260623T200000
SUMMARY:#165897 New Prague 11A @ Shakopee Sabers
LOCATION:Westminster\, Field #2
TZID:America/Chicago
UID:mbl_game_165897
END:VEVENT
BEGIN:VEVENT
DTSTAMP:20260426T023008Z
DTSTART:20260522T180000
DTEND:20260522T200000
SUMMARY:#165898 New Prague 11A @ Waconia Wildcats (Gold)
LOCATION:St Bonifacius Townsedge Field\, Townsedge Field
TZID:America/Chicago
UID:mbl_game_165898
END:VEVENT
BEGIN:VEVENT
DTSTAMP:20260426T023008Z
DTSTART:20260609T180000
DTEND:20260609T200000
SUMMARY:#165902 Prior Lake 11A White @ New Prague 11A
LOCATION:Foundry Hill Park\, Foundry Hill
TZID:America/Chicago
UID:mbl_game_165902
END:VEVENT
BEGIN:VEVENT
DTSTAMP:20260426T023008Z
DTSTART:20260502T130000
DTEND:20260502T150000
SUMMARY:#165909 Shakopee Sabers @ New Prague 11A
LOCATION:Foundry Hill Park\, Foundry Hill
TZID:America/Chicago
UID:mbl_game_165909
END:VEVENT
BEGIN:VEVENT
DTSTAMP:20260426T023008Z
DTSTART:20260604T180000
DTEND:20260604T200000
SUMMARY:#165916 Waconia Wildcats (Gold) @ New Prague 11A
LOCATION:Foundry Hill Park\, Foundry Hill
TZID:America/Chicago
UID:mbl_game_165916
END:VEVENT
BEGIN:VEVENT
DTSTAMP:20260426T023008Z
DTSTART:20260512T180000
DTEND:20260512T200000
SUMMARY:#165923 Eden Prairie Eagles 11A @ New Prague 11A
LOCATION:Foundry Hill Park\, Foundry Hill
TZID:America/Chicago
UID:mbl_game_165923
END:VEVENT
END:VCALENDAR
