BEGIN:VCALENDAR
PRODID:-//Ben Fortuna//iCal4j 1.0//EN
VERSION:2.0
CALSCALE:GREGORIAN
X-WR-TIMEZONE:America/Chicago
DESCRIPTION:MBL Games
X-WR-CALNAME:MBL Games
BEGIN:VEVENT
DTSTAMP:20260426T023008Z
DTSTART:20260608T193000
DTEND:20260608T213000
SUMMARY:#168723 New Prague 11AA @ Edina Green
LOCATION:Courtney (formerly Braemar)\, Field #4
TZID:America/Chicago
UID:mbl_game_168723
END:VEVENT
BEGIN:VEVENT
DTSTAMP:20260426T023008Z
DTSTART:20260604T180000
DTEND:20260604T200000
SUMMARY:#168750 New Prague 11AA @ Bloomington Bandits
LOCATION:Hrbek Fields\, Field #6
TZID:America/Chicago
UID:mbl_game_168750
END:VEVENT
BEGIN:VEVENT
DTSTAMP:20260426T023008Z
DTSTART:20260430T180000
DTEND:20260430T200000
SUMMARY:#168772 New Prague 11AA @ Chaska Hawks
LOCATION:Community Park\, Field #3
TZID:America/Chicago
UID:mbl_game_168772
END:VEVENT
BEGIN:VEVENT
DTSTAMP:20260426T023008Z
DTSTART:20260428T180000
DTEND:20260428T200000
SUMMARY:#168781 Jordan Hubmen @ New Prague 11AA
LOCATION:Foundry Hill Park\, Foundry Hill
TZID:America/Chicago
UID:mbl_game_168781
END:VEVENT
BEGIN:VEVENT
DTSTAMP:20260426T023008Z
DTSTART:20260506T180000
DTEND:20260506T200000
SUMMARY:#168784 New Prague 11AA @ Belle Plaine Tigers
LOCATION:Meadow Park\, Field #2
TZID:America/Chicago
UID:mbl_game_168784
END:VEVENT
BEGIN:VEVENT
DTSTAMP:20260426T023008Z
DTSTART:20260512T180000
DTEND:20260512T200000
SUMMARY:#168785 New Prague 11AA @ Jordan Hubmen
LOCATION:Holzer Memorial Park\, Field #1
TZID:America/Chicago
UID:mbl_game_168785
END:VEVENT
BEGIN:VEVENT
DTSTAMP:20260426T023008Z
DTSTART:20260616T180000
DTEND:20260616T200000
SUMMARY:#168787 Belle Plaine Tigers @ New Prague 11AA
LOCATION:Foundry Hill Park\, Foundry Hill
TZID:America/Chicago
UID:mbl_game_168787
END:VEVENT
BEGIN:VEVENT
DTSTAMP:20260426T023008Z
DTSTART:20260527T183000
DTEND:20260527T203000
SUMMARY:#168788 New Prague 11AA @ St. Peter Saints
LOCATION:Jefferson Fields\, Jefferson Field #3
TZID:America/Chicago
UID:mbl_game_168788
END:VEVENT
BEGIN:VEVENT
DTSTAMP:20260426T023008Z
DTSTART:20260516T120000
DTEND:20260516T140000
SUMMARY:#168789 New Prague 11AA @ Tri-City United Titans
LOCATION:Foundry Hill Park\, Foundry Hill
TZID:America/Chicago
UID:mbl_game_168789
END:VEVENT
BEGIN:VEVENT
DTSTAMP:20260426T023008Z
DTSTART:20260516T100000
DTEND:20260516T120000
SUMMARY:#168793 Tri-City United Titans @ New Prague 11AA
LOCATION:Foundry Hill Park\, Foundry Hill
TZID:America/Chicago
UID:mbl_game_168793
END:VEVENT
BEGIN:VEVENT
DTSTAMP:20260426T023008Z
DTSTART:20260518T180000
DTEND:20260518T200000
SUMMARY:#168799 St. Peter Saints @ New Prague 11AA
LOCATION:Foundry Hill Park\, Foundry Hill
TZID:America/Chicago
UID:mbl_game_168799
END:VEVENT
BEGIN:VEVENT
DTSTAMP:20260426T023008Z
DTSTART:20260520T183000
DTEND:20260520T203000
SUMMARY:#168805 Chanhassen 11AA - Gold @ New Prague 11AA
LOCATION:Foundry Hill Park\, Foundry Hill
TZID:America/Chicago
UID:mbl_game_168805
END:VEVENT
BEGIN:VEVENT
DTSTAMP:20260426T023008Z
DTSTART:20260610T180000
DTEND:20260610T200000
SUMMARY:#168811 Eden Prairie Eagles 11AA @ New Prague 11AA
LOCATION:Foundry Hill Park\, Foundry Hill
TZID:America/Chicago
UID:mbl_game_168811
END:VEVENT
BEGIN:VEVENT
DTSTAMP:20260426T023008Z
DTSTART:20260601T180000
DTEND:20260601T200000
SUMMARY:#168817 Prior Lake 11AA Gold @ New Prague 11AA
LOCATION:Foundry Hill Park\, Foundry Hill
TZID:America/Chicago
UID:mbl_game_168817
END:VEVENT
END:VCALENDAR
