BEGIN:VCALENDAR
PRODID:-//Ben Fortuna//iCal4j 1.0//EN
VERSION:2.0
CALSCALE:GREGORIAN
X-WR-TIMEZONE:America/Chicago
DESCRIPTION:MBL Games
X-WR-CALNAME:MBL Games
BEGIN:VEVENT
DTSTAMP:20260425T225033Z
DTSTART:20260504T180000
DTEND:20260504T200000
SUMMARY:#167057 Prior Lake 12A Navy @ New Prague 12A
LOCATION:CEC Field\, CEC Field
TZID:America/Chicago
UID:mbl_game_167057
END:VEVENT
BEGIN:VEVENT
DTSTAMP:20260425T225033Z
DTSTART:20260528T180000
DTEND:20260528T200000
SUMMARY:#167058 New Prague 12A @ Chaska Hawks
LOCATION:Lions Park\, Field #2
TZID:America/Chicago
UID:mbl_game_167058
END:VEVENT
BEGIN:VEVENT
DTSTAMP:20260425T225033Z
DTSTART:20260625T193000
DTEND:20260625T213000
SUMMARY:#167063 New Prague 12A @ Chanhassen 12A - Silver
LOCATION:Lake Ann\, Field #1
TZID:America/Chicago
UID:mbl_game_167063
END:VEVENT
BEGIN:VEVENT
DTSTAMP:20260425T225033Z
DTSTART:20260624T174500
DTEND:20260624T194500
SUMMARY:#167066 New Prague 12A @ Prior Lake 12A Gold
LOCATION:Ryan\, Field #3
TZID:America/Chicago
UID:mbl_game_167066
END:VEVENT
BEGIN:VEVENT
DTSTAMP:20260425T225033Z
DTSTART:20260511T180000
DTEND:20260511T200000
SUMMARY:#167069 Orono Spartans @ New Prague 12A
LOCATION:CEC Field\, CEC Field
TZID:America/Chicago
UID:mbl_game_167069
END:VEVENT
BEGIN:VEVENT
DTSTAMP:20260425T225033Z
DTSTART:20260616T193000
DTEND:20260616T213000
SUMMARY:#167073 New Prague 12A @ Orono Spartans
LOCATION:Holbrook\, Holbrook Field
TZID:America/Chicago
UID:mbl_game_167073
END:VEVENT
BEGIN:VEVENT
DTSTAMP:20260425T225033Z
DTSTART:20260519T201500
DTEND:20260519T221500
SUMMARY:#167074 New Prague 12A @ Minneapolis Millers 12A Blue
LOCATION:Neiman\, MSA Batting Cages Field #4
TZID:America/Chicago
UID:mbl_game_167074
END:VEVENT
BEGIN:VEVENT
DTSTAMP:20260425T225033Z
DTSTART:20260502T110000
DTEND:20260502T130000
SUMMARY:#167085 Shakopee Sabers @ New Prague 12A
LOCATION:CEC Field\, CEC Field
TZID:America/Chicago
UID:mbl_game_167085
END:VEVENT
BEGIN:VEVENT
DTSTAMP:20260425T225033Z
DTSTART:20260427T180000
DTEND:20260427T200000
SUMMARY:#167099 Chaska Hawks @ New Prague 12A
LOCATION:CEC Field\, CEC Field
TZID:America/Chicago
UID:mbl_game_167099
END:VEVENT
BEGIN:VEVENT
DTSTAMP:20260425T225033Z
DTSTART:20260601T180000
DTEND:20260601T200000
SUMMARY:#167105 Waconia Wildcats @ New Prague 12A
LOCATION:CEC Field\, CEC Field
TZID:America/Chicago
UID:mbl_game_167105
END:VEVENT
BEGIN:VEVENT
DTSTAMP:20260425T225033Z
DTSTART:20260608T183000
DTEND:20260608T203000
SUMMARY:#167114 Minneapolis Millers 12A Blue @ New Prague 12A
LOCATION:CEC Field\, CEC Field
TZID:America/Chicago
UID:mbl_game_167114
END:VEVENT
BEGIN:VEVENT
DTSTAMP:20260425T225033Z
DTSTART:20260603T180000
DTEND:20260603T200000
SUMMARY:#167117 New Prague 12A @ Westonka 12A
LOCATION:Westonka Rec\, Field #2 (Jaycee)
TZID:America/Chicago
UID:mbl_game_167117
END:VEVENT
BEGIN:VEVENT
DTSTAMP:20260425T225033Z
DTSTART:20260610T180000
DTEND:20260610T200000
SUMMARY:#167124 New Prague 12A @ Shakopee Sabers
LOCATION:Green Meadow\, Green Meadow Park
TZID:America/Chicago
UID:mbl_game_167124
END:VEVENT
BEGIN:VEVENT
DTSTAMP:20260425T225033Z
DTSTART:20260514T180000
DTEND:20260514T200000
SUMMARY:#167129 Edina Gold 12A @ New Prague 12A
LOCATION:Countryside Park\, Countryside Prep
TZID:America/Chicago
UID:mbl_game_167129
END:VEVENT
END:VCALENDAR
