BEGIN:VCALENDAR
PRODID:-//Ben Fortuna//iCal4j 1.0//EN
VERSION:2.0
CALSCALE:GREGORIAN
X-WR-TIMEZONE:America/Chicago
DESCRIPTION:MBL Games
X-WR-CALNAME:MBL Games
BEGIN:VEVENT
DTSTAMP:20260426T023008Z
DTSTART:20260423T180000
DTEND:20260423T200000
SUMMARY:#169266 Belle Plaine Tigers @ New Prague 12AA Black
LOCATION:CEC Field\, CEC Field
TZID:America/Chicago
UID:mbl_game_169266
END:VEVENT
BEGIN:VEVENT
DTSTAMP:20260426T023008Z
DTSTART:20260602T180000
DTEND:20260602T200000
SUMMARY:#169270 New Prague 12AA Black @ Belle Plaine Tigers
LOCATION:Meadow Park\, Field #1
TZID:America/Chicago
UID:mbl_game_169270
END:VEVENT
BEGIN:VEVENT
DTSTAMP:20260426T023008Z
DTSTART:20260520T180000
DTEND:20260520T200000
SUMMARY:#169271 New Prague 12AA Black @ Jordan Hubmen
LOCATION:Holzer Memorial Park\, Field #1
TZID:America/Chicago
UID:mbl_game_169271
END:VEVENT
BEGIN:VEVENT
DTSTAMP:20260426T023008Z
DTSTART:20260604T180000
DTEND:20260604T200000
SUMMARY:#169272 Jordan Hubmen @ New Prague 12AA Black
LOCATION:CEC Field\, CEC Field
TZID:America/Chicago
UID:mbl_game_169272
END:VEVENT
BEGIN:VEVENT
DTSTAMP:20260426T023008Z
DTSTART:20260626T170000
DTEND:20260626T190000
SUMMARY:#169278 New Prague 12AA Red @ New Prague 12AA Black
LOCATION:Memorial New Prague\, Memorial Park #2
TZID:America/Chicago
UID:mbl_game_169278
END:VEVENT
BEGIN:VEVENT
DTSTAMP:20260426T023008Z
DTSTART:20260626T193000
DTEND:20260626T213000
SUMMARY:#169279 New Prague 12AA Black @ New Prague 12AA Red
LOCATION:Memorial New Prague\, Memorial Park #2
TZID:America/Chicago
UID:mbl_game_169279
END:VEVENT
BEGIN:VEVENT
DTSTAMP:20260426T023008Z
DTSTART:20260531T170000
DTEND:20260531T190000
SUMMARY:#169280 New Prague 12AA Black @ St. Peter Saints
LOCATION:Gault Park\, Gault Park
TZID:America/Chicago
UID:mbl_game_169280
END:VEVENT
BEGIN:VEVENT
DTSTAMP:20260426T023008Z
DTSTART:20260624T180000
DTEND:20260624T200000
SUMMARY:#169281 New Prague 12AA Black @ Tri-City United Titans 12AA
LOCATION:Ron Germscheid\, Memorial Field
TZID:America/Chicago
UID:mbl_game_169281
END:VEVENT
BEGIN:VEVENT
DTSTAMP:20260426T023008Z
DTSTART:20260514T180000
DTEND:20260514T200000
SUMMARY:#169284 St. Peter Saints @ New Prague 12AA Black
LOCATION:CEC Field\, CEC Field
TZID:America/Chicago
UID:mbl_game_169284
END:VEVENT
BEGIN:VEVENT
DTSTAMP:20260426T023008Z
DTSTART:20260515T180000
DTEND:20260515T200000
SUMMARY:#169290 Tri-City United Titans 12AA @ New Prague 12AA Black
LOCATION:CEC Field\, CEC Field
TZID:America/Chicago
UID:mbl_game_169290
END:VEVENT
BEGIN:VEVENT
DTSTAMP:20260426T023008Z
DTSTART:20260610T193000
DTEND:20260610T213000
SUMMARY:#169296 New Prague 12AA Black @ Chanhassen 12AA - Gold
LOCATION:Lake Ann\, Field #1
TZID:America/Chicago
UID:mbl_game_169296
END:VEVENT
BEGIN:VEVENT
DTSTAMP:20260426T023008Z
DTSTART:20260528T180000
DTEND:20260528T200000
SUMMARY:#169302 Waconia Wildcats @ New Prague 12AA Black
LOCATION:CEC Field\, CEC Field
TZID:America/Chicago
UID:mbl_game_169302
END:VEVENT
BEGIN:VEVENT
DTSTAMP:20260426T023008Z
DTSTART:20260527T174500
DTEND:20260527T194500
SUMMARY:#169581 New Prague 12AA Black @ Prior Lake 12AA Gold
LOCATION:Ryan\, Field #2
TZID:America/Chicago
UID:mbl_game_169581
END:VEVENT
BEGIN:VEVENT
DTSTAMP:20260426T023008Z
DTSTART:20260519T180000
DTEND:20260519T200000
SUMMARY:#169588 New Prague 12AA Black @ Chaska Hawks
LOCATION:Community Park\, Field #4
TZID:America/Chicago
UID:mbl_game_169588
END:VEVENT
END:VCALENDAR
