BEGIN:VCALENDAR
PRODID:-//Ben Fortuna//iCal4j 1.0//EN
VERSION:2.0
CALSCALE:GREGORIAN
X-WR-TIMEZONE:America/Chicago
DESCRIPTION:MBL Games
X-WR-CALNAME:MBL Games
BEGIN:VEVENT
DTSTAMP:20260426T023008Z
DTSTART:20260506T180000
DTEND:20260506T200000
SUMMARY:#169267 Belle Plaine Tigers @ New Prague 12AA Red
LOCATION:CEC Field\, CEC Field
TZID:America/Chicago
UID:mbl_game_169267
END:VEVENT
BEGIN:VEVENT
DTSTAMP:20260426T023008Z
DTSTART:20260603T180000
DTEND:20260603T200000
SUMMARY:#169273 Jordan Hubmen @ New Prague 12AA Red
LOCATION:CEC Field\, CEC Field
TZID:America/Chicago
UID:mbl_game_169273
END:VEVENT
BEGIN:VEVENT
DTSTAMP:20260426T023008Z
DTSTART:20260526T180000
DTEND:20260526T200000
SUMMARY:#169276 New Prague 12AA Red @ Belle Plaine Tigers
LOCATION:Meadow Park\, Field #1
TZID:America/Chicago
UID:mbl_game_169276
END:VEVENT
BEGIN:VEVENT
DTSTAMP:20260426T023008Z
DTSTART:20260504T180000
DTEND:20260504T200000
SUMMARY:#169277 New Prague 12AA Red @ Jordan Hubmen
LOCATION:Holzer Memorial Park\, Field #1
TZID:America/Chicago
UID:mbl_game_169277
END:VEVENT
BEGIN:VEVENT
DTSTAMP:20260426T023008Z
DTSTART:20260626T170000
DTEND:20260626T190000
SUMMARY:#169278 New Prague 12AA Red @ New Prague 12AA Black
LOCATION:Memorial New Prague\, Memorial Park #2
TZID:America/Chicago
UID:mbl_game_169278
END:VEVENT
BEGIN:VEVENT
DTSTAMP:20260426T023008Z
DTSTART:20260626T193000
DTEND:20260626T213000
SUMMARY:#169279 New Prague 12AA Black @ New Prague 12AA Red
LOCATION:Memorial New Prague\, Memorial Park #2
TZID:America/Chicago
UID:mbl_game_169279
END:VEVENT
BEGIN:VEVENT
DTSTAMP:20260426T023008Z
DTSTART:20260513T180000
DTEND:20260513T200000
SUMMARY:#169285 St. Peter Saints @ New Prague 12AA Red
LOCATION:CEC Field\, CEC Field
TZID:America/Chicago
UID:mbl_game_169285
END:VEVENT
BEGIN:VEVENT
DTSTAMP:20260426T023008Z
DTSTART:20260517T150000
DTEND:20260517T170000
SUMMARY:#169286 New Prague 12AA Red @ St. Peter Saints
LOCATION:Gault Park\, Gault Park
TZID:America/Chicago
UID:mbl_game_169286
END:VEVENT
BEGIN:VEVENT
DTSTAMP:20260426T023008Z
DTSTART:20260622T180000
DTEND:20260622T200000
SUMMARY:#169287 New Prague 12AA Red @ Tri-City United Titans 12AA
LOCATION:Ron Germscheid\, Memorial Field
TZID:America/Chicago
UID:mbl_game_169287
END:VEVENT
BEGIN:VEVENT
DTSTAMP:20260426T023008Z
DTSTART:20260527T180000
DTEND:20260527T200000
SUMMARY:#169291 Tri-City United Titans 12AA @ New Prague 12AA Red
LOCATION:CEC Field\, CEC Field
TZID:America/Chicago
UID:mbl_game_169291
END:VEVENT
BEGIN:VEVENT
DTSTAMP:20260426T023008Z
DTSTART:20260610T180000
DTEND:20260610T200000
SUMMARY:#169297 Prior Lake 12AA Navy @ New Prague 12AA Red
LOCATION:CEC Field\, CEC Field
TZID:America/Chicago
UID:mbl_game_169297
END:VEVENT
BEGIN:VEVENT
DTSTAMP:20260426T023008Z
DTSTART:20260624T180000
DTEND:20260624T200000
SUMMARY:#169303 Bloomington Bandits 12AA Red @ New Prague 12AA Red
LOCATION:CEC Field\, CEC Field
TZID:America/Chicago
UID:mbl_game_169303
END:VEVENT
BEGIN:VEVENT
DTSTAMP:20260426T023008Z
DTSTART:20260616T173000
DTEND:20260616T193000
SUMMARY:#169578 New Prague 12AA Red @ Chanhassen 12AA - Gold
LOCATION:Bandimere\, Field #3
TZID:America/Chicago
UID:mbl_game_169578
END:VEVENT
BEGIN:VEVENT
DTSTAMP:20260426T023008Z
DTSTART:20260618T180000
DTEND:20260618T200000
SUMMARY:#169584 New Prague 12AA Red @ Waconia Wildcats
LOCATION:Waconia High School\, West B
TZID:America/Chicago
UID:mbl_game_169584
END:VEVENT
END:VCALENDAR
