BEGIN:VCALENDAR
PRODID:-//Ben Fortuna//iCal4j 1.0//EN
VERSION:2.0
CALSCALE:GREGORIAN
X-WR-TIMEZONE:America/Chicago
DESCRIPTION:MBL Games
X-WR-CALNAME:MBL Games
BEGIN:VEVENT
DTSTAMP:20260426T023008Z
DTSTART:20260617T173000
DTEND:20260617T193000
SUMMARY:#167293 New Prague 12AAA @ Minnetonka 12AAA - Blue - Edlefsen
LOCATION:Excelsior Commons\, Excelsior Commons
TZID:America/Chicago
UID:mbl_game_167293
END:VEVENT
BEGIN:VEVENT
DTSTAMP:20260426T023008Z
DTSTART:20260609T180000
DTEND:20260609T200000
SUMMARY:#167302 Bloomington Bandits @ New Prague 12AAA
LOCATION:CEC Field\, CEC Field
TZID:America/Chicago
UID:mbl_game_167302
END:VEVENT
BEGIN:VEVENT
DTSTAMP:20260426T023008Z
DTSTART:20260526T180000
DTEND:20260526T200000
SUMMARY:#167309 Chanhassen 12AAA - Blue @ New Prague 12AAA
LOCATION:CEC Field\, CEC Field
TZID:America/Chicago
UID:mbl_game_167309
END:VEVENT
BEGIN:VEVENT
DTSTAMP:20260426T023008Z
DTSTART:20260623T180000
DTEND:20260623T200000
SUMMARY:#167316 Chaska Hawks @ New Prague 12AAA
LOCATION:CEC Field\, CEC Field
TZID:America/Chicago
UID:mbl_game_167316
END:VEVENT
BEGIN:VEVENT
DTSTAMP:20260426T023008Z
DTSTART:20260507T200000
DTEND:20260507T220000
SUMMARY:#167319 New Prague 12AAA @ Bloomington Bandits
LOCATION:Hrbek Fields\, Field #5
TZID:America/Chicago
UID:mbl_game_167319
END:VEVENT
BEGIN:VEVENT
DTSTAMP:20260426T023008Z
DTSTART:20260611T173000
DTEND:20260611T193000
SUMMARY:#167320 New Prague 12AAA @ Chanhassen 12AAA - Blue
LOCATION:Lake Ann\, Field #1
TZID:America/Chicago
UID:mbl_game_167320
END:VEVENT
BEGIN:VEVENT
DTSTAMP:20260426T023008Z
DTSTART:20260604T180000
DTEND:20260604T200000
SUMMARY:#167321 New Prague 12AAA @ Chaska Hawks
LOCATION:Community Park\, Field #4
TZID:America/Chicago
UID:mbl_game_167321
END:VEVENT
BEGIN:VEVENT
DTSTAMP:20260426T023008Z
DTSTART:20260520T180000
DTEND:20260520T200000
SUMMARY:#167322 New Prague 12AAA @ Eden Prairie Eagles 12AAA
LOCATION:Miller Park\, Field #3
TZID:America/Chicago
UID:mbl_game_167322
END:VEVENT
BEGIN:VEVENT
DTSTAMP:20260426T023008Z
DTSTART:20260428T173000
DTEND:20260428T193000
SUMMARY:#167323 Eden Prairie Eagles 12AAA @ New Prague 12AAA
LOCATION:CEC Field\, CEC Field
TZID:America/Chicago
UID:mbl_game_167323
END:VEVENT
BEGIN:VEVENT
DTSTAMP:20260426T023008Z
DTSTART:20260512T173000
DTEND:20260512T193000
SUMMARY:#167330 Prior Lake 12AAA @ New Prague 12AAA
LOCATION:CEC Field\, CEC Field
TZID:America/Chicago
UID:mbl_game_167330
END:VEVENT
BEGIN:VEVENT
DTSTAMP:20260426T023008Z
DTSTART:20260602T194500
DTEND:20260602T214500
SUMMARY:#167331 New Prague 12AAA @ Prior Lake 12AAA
LOCATION:Ryan\, Field #2
TZID:America/Chicago
UID:mbl_game_167331
END:VEVENT
BEGIN:VEVENT
DTSTAMP:20260426T023008Z
DTSTART:20260528T174500
DTEND:20260528T194500
SUMMARY:#167332 New Prague 12AAA @ Waconia Wildcats
LOCATION:Bayview Elementary School\, Field #1
TZID:America/Chicago
UID:mbl_game_167332
END:VEVENT
BEGIN:VEVENT
DTSTAMP:20260426T023008Z
DTSTART:20260505T173000
DTEND:20260505T193000
SUMMARY:#167337 Waconia Wildcats @ New Prague 12AAA
LOCATION:CEC Field\, CEC Field
TZID:America/Chicago
UID:mbl_game_167337
END:VEVENT
BEGIN:VEVENT
DTSTAMP:20260426T023008Z
DTSTART:20260616T180000
DTEND:20260616T200000
SUMMARY:#167344 Hopkins Royals @ New Prague 12AAA
LOCATION:Memorial New Prague\, Memorial Park #2
TZID:America/Chicago
UID:mbl_game_167344
END:VEVENT
END:VCALENDAR
