BEGIN:VCALENDAR
PRODID:-//Ben Fortuna//iCal4j 1.0//EN
VERSION:2.0
CALSCALE:GREGORIAN
X-WR-TIMEZONE:America/Chicago
DESCRIPTION:MBL Games
X-WR-CALNAME:MBL Games
BEGIN:VEVENT
DTSTAMP:20260426T022946Z
DTSTART:20260505T173000
DTEND:20260505T193000
SUMMARY:#169095 Bloomington 13A - Red @ New Prague 13A
LOCATION:New Prague Middle School Field\, New Prague Middle School
TZID:America/Chicago
UID:mbl_game_169095
END:VEVENT
BEGIN:VEVENT
DTSTAMP:20260426T022946Z
DTSTART:20260518T174500
DTEND:20260518T194500
SUMMARY:#169107 Eden Prairie Eagles 13A Red @ New Prague 13A
LOCATION:New Prague Middle School Field\, New Prague Middle School
TZID:America/Chicago
UID:mbl_game_169107
END:VEVENT
BEGIN:VEVENT
DTSTAMP:20260426T022946Z
DTSTART:20260625T174500
DTEND:20260625T194500
SUMMARY:#169119 Prior Lake 13A Gold @ New Prague 13A
LOCATION:New Prague Middle School Field\, New Prague Middle School
TZID:America/Chicago
UID:mbl_game_169119
END:VEVENT
BEGIN:VEVENT
DTSTAMP:20260426T022946Z
DTSTART:20260514T173000
DTEND:20260514T193000
SUMMARY:#169131 Shakopee Sabers @ New Prague 13A
LOCATION:New Prague Middle School Field\, New Prague Middle School
TZID:America/Chicago
UID:mbl_game_169131
END:VEVENT
BEGIN:VEVENT
DTSTAMP:20260426T022946Z
DTSTART:20260618T173000
DTEND:20260618T193000
SUMMARY:#169138 New Prague 13A @ Bloomington 13A - Red
LOCATION:Hrbek Fields\, Field #5
TZID:America/Chicago
UID:mbl_game_169138
END:VEVENT
BEGIN:VEVENT
DTSTAMP:20260426T022946Z
DTSTART:20260428T180000
DTEND:20260428T200000
SUMMARY:#169141 New Prague 13A @ Eden Prairie Eagles 13A Red
LOCATION:Flying Cloud Fields\, Field #2
TZID:America/Chicago
UID:mbl_game_169141
END:VEVENT
BEGIN:VEVENT
DTSTAMP:20260426T022946Z
DTSTART:20260528T174500
DTEND:20260528T194500
SUMMARY:#169143 Tri-City United Titans @ New Prague 13A
LOCATION:New Prague Middle School Field\, New Prague Middle School
TZID:America/Chicago
UID:mbl_game_169143
END:VEVENT
BEGIN:VEVENT
DTSTAMP:20260426T022946Z
DTSTART:20260616T174500
DTEND:20260616T194500
SUMMARY:#169144 New Prague 13A @ Prior Lake 13A Gold
LOCATION:Ryan\, Field #2
TZID:America/Chicago
UID:mbl_game_169144
END:VEVENT
BEGIN:VEVENT
DTSTAMP:20260426T022946Z
DTSTART:20260502T100000
DTEND:20260502T120000
SUMMARY:#169146 New Prague 13A @ Shakopee Sabers
LOCATION:Jackson Field\, Jackson Field
TZID:America/Chicago
UID:mbl_game_169146
END:VEVENT
BEGIN:VEVENT
DTSTAMP:20260426T022946Z
DTSTART:20260623T180000
DTEND:20260623T200000
SUMMARY:#169147 New Prague 13A @ Tri-City United Titans
LOCATION:Ron Germscheid\, Memorial Field
TZID:America/Chicago
UID:mbl_game_169147
END:VEVENT
BEGIN:VEVENT
DTSTAMP:20260426T022946Z
DTSTART:20260512T173000
DTEND:20260512T193000
SUMMARY:#169151 Chaska Hawks @ New Prague 13A
LOCATION:New Prague Middle School Field\, New Prague Middle School
TZID:America/Chicago
UID:mbl_game_169151
END:VEVENT
BEGIN:VEVENT
DTSTAMP:20260426T022946Z
DTSTART:20260609T180000
DTEND:20260609T200000
SUMMARY:#169155 Jordan Hubmen @ New Prague 13A
LOCATION:New Prague Middle School Field\, New Prague Middle School
TZID:America/Chicago
UID:mbl_game_169155
END:VEVENT
BEGIN:VEVENT
DTSTAMP:20260426T022946Z
DTSTART:20260526T174500
DTEND:20260526T194500
SUMMARY:#169157 New Prague 13A @ Prior Lake 13A Navy
LOCATION:Ryan\, Field #2
TZID:America/Chicago
UID:mbl_game_169157
END:VEVENT
BEGIN:VEVENT
DTSTAMP:20260426T022946Z
DTSTART:20260521T183000
DTEND:20260521T203000
SUMMARY:#169167 Eden Prairie Eagles 13A Black @ New Prague 13A
LOCATION:New Prague Middle School Field\, New Prague Middle School
TZID:America/Chicago
UID:mbl_game_169167
END:VEVENT
END:VCALENDAR
