BEGIN:VCALENDAR
PRODID:-//Ben Fortuna//iCal4j 1.0//EN
VERSION:2.0
CALSCALE:GREGORIAN
X-WR-TIMEZONE:America/Chicago
DESCRIPTION:MBL Games
X-WR-CALNAME:MBL Games
BEGIN:VEVENT
DTSTAMP:20260426T021405Z
DTSTART:20260520T180000
DTEND:20260520T200000
SUMMARY:#168313 Eden Prairie Eagles 13AA @ New Prague 13AA
LOCATION:New Prague Middle School Field\, New Prague Middle School
TZID:America/Chicago
UID:mbl_game_168313
END:VEVENT
BEGIN:VEVENT
DTSTAMP:20260426T021405Z
DTSTART:20260430T173000
DTEND:20260430T193000
SUMMARY:#168320 New Prague 13AA @ Bloomington Bandits
LOCATION:Hrbek Fields\, Field #5
TZID:America/Chicago
UID:mbl_game_168320
END:VEVENT
BEGIN:VEVENT
DTSTAMP:20260426T021405Z
DTSTART:20260519T173000
DTEND:20260519T193000
SUMMARY:#168321 New Prague 13AA @ Chanhassen 13AA - Gold
LOCATION:Lake Ann\, Field #6
TZID:America/Chicago
UID:mbl_game_168321
END:VEVENT
BEGIN:VEVENT
DTSTAMP:20260426T021405Z
DTSTART:20260506T180000
DTEND:20260506T200000
SUMMARY:#168324 Prior Lake 13AA Navy @ New Prague 13AA
LOCATION:New Prague Middle School Field\, New Prague Middle School
TZID:America/Chicago
UID:mbl_game_168324
END:VEVENT
BEGIN:VEVENT
DTSTAMP:20260426T021405Z
DTSTART:20260623T174500
DTEND:20260623T194500
SUMMARY:#168325 New Prague 13AA @ Prior Lake 13AA Gold
LOCATION:Ryan\, Field #2
TZID:America/Chicago
UID:mbl_game_168325
END:VEVENT
BEGIN:VEVENT
DTSTAMP:20260426T021405Z
DTSTART:20260527T180000
DTEND:20260527T200000
SUMMARY:#168335 Waconia Wildcats @ New Prague 13AA
LOCATION:New Prague Middle School Field\, New Prague Middle School
TZID:America/Chicago
UID:mbl_game_168335
END:VEVENT
BEGIN:VEVENT
DTSTAMP:20260426T021405Z
DTSTART:20260617T180000
DTEND:20260617T200000
SUMMARY:#168346 Chaska Hawks @ New Prague 13AA
LOCATION:New Prague Middle School Field\, New Prague Middle School
TZID:America/Chicago
UID:mbl_game_168346
END:VEVENT
BEGIN:VEVENT
DTSTAMP:20260426T021405Z
DTSTART:20260624T180000
DTEND:20260624T200000
SUMMARY:#168355 New Prague 13AA @ Chaska Hawks
LOCATION:Community Park\, Field #4
TZID:America/Chicago
UID:mbl_game_168355
END:VEVENT
BEGIN:VEVENT
DTSTAMP:20260426T021405Z
DTSTART:20260620T100000
DTEND:20260620T120000
SUMMARY:#168357 Tri-City United Titans @ New Prague 13AA
LOCATION:New Prague Middle School Field\, New Prague Middle School
TZID:America/Chicago
UID:mbl_game_168357
END:VEVENT
BEGIN:VEVENT
DTSTAMP:20260426T021405Z
DTSTART:20260610T180000
DTEND:20260610T200000
SUMMARY:#168368 St. Peter Saints @ New Prague 13AA
LOCATION:New Prague Middle School Field\, New Prague Middle School
TZID:America/Chicago
UID:mbl_game_168368
END:VEVENT
BEGIN:VEVENT
DTSTAMP:20260426T021405Z
DTSTART:20260608T180000
DTEND:20260608T200000
SUMMARY:#168372 New Prague 13AA @ St. Peter Saints
LOCATION:Community Spirit Park\, North Field
TZID:America/Chicago
UID:mbl_game_168372
END:VEVENT
BEGIN:VEVENT
DTSTAMP:20260426T021405Z
DTSTART:20260509T100000
DTEND:20260509T120000
SUMMARY:#168373 New Prague 13AA @ Tri-City United Titans
LOCATION:Lonsdale Jaycee Park\, Field #2
TZID:America/Chicago
UID:mbl_game_168373
END:VEVENT
BEGIN:VEVENT
DTSTAMP:20260426T021405Z
DTSTART:20260513T180000
DTEND:20260513T200000
SUMMARY:#168379 Shakopee Sabers @ New Prague 13AA
LOCATION:New Prague Middle School Field\, New Prague Middle School
TZID:America/Chicago
UID:mbl_game_168379
END:VEVENT
BEGIN:VEVENT
DTSTAMP:20260426T021405Z
DTSTART:20260502T140000
DTEND:20260502T160000
SUMMARY:#168382 New Prague 13AA @ Shakopee Sabers
LOCATION:Jackson Field\, Jackson Field
TZID:America/Chicago
UID:mbl_game_168382
END:VEVENT
END:VCALENDAR
