BEGIN:VCALENDAR
PRODID:-//Ben Fortuna//iCal4j 1.0//EN
VERSION:2.0
CALSCALE:GREGORIAN
X-WR-TIMEZONE:America/Chicago
DESCRIPTION:MBL Games
X-WR-CALNAME:MBL Games
BEGIN:VEVENT
DTSTAMP:20260426T022124Z
DTSTART:20260527T174500
DTEND:20260527T194500
SUMMARY:#169041 New Prague 14AA @ Prior Lake 14AA
LOCATION:Ryan\, Field #1
TZID:America/Chicago
UID:mbl_game_169041
END:VEVENT
BEGIN:VEVENT
DTSTAMP:20260426T022124Z
DTSTART:20260611T180000
DTEND:20260611T200000
SUMMARY:#169057 Belle Plaine Tigers @ New Prague 14AA
LOCATION:New Prague High School\, New Prague High School North Field
TZID:America/Chicago
UID:mbl_game_169057
END:VEVENT
BEGIN:VEVENT
DTSTAMP:20260426T022124Z
DTSTART:20260603T180000
DTEND:20260603T200000
SUMMARY:#169062 Jordan Hubmen @ New Prague 14AA
LOCATION:New Prague High School\, New Prague High School South Field
TZID:America/Chicago
UID:mbl_game_169062
END:VEVENT
BEGIN:VEVENT
DTSTAMP:20260426T022124Z
DTSTART:20260612T180000
DTEND:20260612T200000
SUMMARY:#169064 New Prague 14AA @ Belle Plaine Tigers
LOCATION:Heritage Square\, Heritage Field
TZID:America/Chicago
UID:mbl_game_169064
END:VEVENT
BEGIN:VEVENT
DTSTAMP:20260426T022124Z
DTSTART:20260610T180000
DTEND:20260610T200000
SUMMARY:#169065 New Prague 14AA @ Jordan Hubmen
LOCATION:Jordan High School\, Field #2
TZID:America/Chicago
UID:mbl_game_169065
END:VEVENT
BEGIN:VEVENT
DTSTAMP:20260426T022124Z
DTSTART:20260503T160000
DTEND:20260503T180000
SUMMARY:#169066 New Prague 14AA @ Mankato Royals
LOCATION:Franklin Rogers Park\, Franklin Rogers
TZID:America/Chicago
UID:mbl_game_169066
END:VEVENT
BEGIN:VEVENT
DTSTAMP:20260426T022124Z
DTSTART:20260625T180000
DTEND:20260625T200000
SUMMARY:#169067 Mankato Royals @ New Prague 14AA
LOCATION:New Prague High School\, New Prague High School North Field
TZID:America/Chicago
UID:mbl_game_169067
END:VEVENT
BEGIN:VEVENT
DTSTAMP:20260426T022124Z
DTSTART:20260526T180000
DTEND:20260526T200000
SUMMARY:#169072 Tri-City United Titans @ New Prague 14AA
LOCATION:New Prague High School\, New Prague High School North Field
TZID:America/Chicago
UID:mbl_game_169072
END:VEVENT
BEGIN:VEVENT
DTSTAMP:20260426T022124Z
DTSTART:20260522T180000
DTEND:20260522T200000
SUMMARY:#169073 New Prague 14AA @ Tri-City United Titans
LOCATION:Trenda Memorial Park\, DRS Field
TZID:America/Chicago
UID:mbl_game_169073
END:VEVENT
BEGIN:VEVENT
DTSTAMP:20260426T022124Z
DTSTART:20260513T180000
DTEND:20260513T200000
SUMMARY:#169077 Lakeville North @ New Prague 14AA
LOCATION:New Prague High School\, New Prague High School South Field
TZID:America/Chicago
UID:mbl_game_169077
END:VEVENT
BEGIN:VEVENT
DTSTAMP:20260426T022124Z
DTSTART:20260511T180000
DTEND:20260511T200000
SUMMARY:#169082 Waconia Wildcats @ New Prague 14AA
LOCATION:New Prague High School\, New Prague High School South Field
TZID:America/Chicago
UID:mbl_game_169082
END:VEVENT
BEGIN:VEVENT
DTSTAMP:20260426T022124Z
DTSTART:20260502T140000
DTEND:20260502T160000
SUMMARY:#169087 Shakopee Sabers @ New Prague 14AA
LOCATION:New Prague High School\, New Prague High School South Field
TZID:America/Chicago
UID:mbl_game_169087
END:VEVENT
BEGIN:VEVENT
DTSTAMP:20260426T022124Z
DTSTART:20260622T200000
DTEND:20260622T220000
SUMMARY:#169911 New Prague 14AA @ Lakeville South
LOCATION:King\, Field #1
TZID:America/Chicago
UID:mbl_game_169911
END:VEVENT
BEGIN:VEVENT
DTSTAMP:20260426T022124Z
DTSTART:20260623T180000
DTEND:20260623T200000
SUMMARY:#169956 New Prague 14AA @ Waseca Bluejays 14AA
LOCATION:Waseca High School Field\, Waseca High School Field
TZID:America/Chicago
UID:mbl_game_169956
END:VEVENT
END:VCALENDAR
