BEGIN:VCALENDAR
PRODID:-//Ben Fortuna//iCal4j 1.0//EN
VERSION:2.0
CALSCALE:GREGORIAN
X-WR-TIMEZONE:America/Chicago
DESCRIPTION:MBL Games
X-WR-CALNAME:MBL Games
BEGIN:VEVENT
DTSTAMP:20260426T023008Z
DTSTART:20260511T183000
DTEND:20260511T210000
SUMMARY:#167407 Hopkins Royals @ New Prague 14AAA
LOCATION:Union Hill\, Union Hill
TZID:America/Chicago
UID:mbl_game_167407
END:VEVENT
BEGIN:VEVENT
DTSTAMP:20260426T023008Z
DTSTART:20260611T180000
DTEND:20260611T200000
SUMMARY:#167408 Chaska Hawks @ New Prague 14AAA
LOCATION:Union Hill\, Union Hill
TZID:America/Chicago
UID:mbl_game_167408
END:VEVENT
BEGIN:VEVENT
DTSTAMP:20260426T023008Z
DTSTART:20260624T183000
DTEND:20260624T203000
SUMMARY:#167410 Chanhassen 14AAA - Blue @ New Prague 14AAA
LOCATION:Union Hill\, Union Hill
TZID:America/Chicago
UID:mbl_game_167410
END:VEVENT
BEGIN:VEVENT
DTSTAMP:20260426T023008Z
DTSTART:20260430T180000
DTEND:20260430T200000
SUMMARY:#167416 New Prague 14AAA @ Edina Hornets 14AAA
LOCATION:Courtney (formerly Braemar)\, Field #1
TZID:America/Chicago
UID:mbl_game_167416
END:VEVENT
BEGIN:VEVENT
DTSTAMP:20260426T023008Z
DTSTART:20260518T180000
DTEND:20260518T200000
SUMMARY:#167419 Edina Hornets 14AAA @ New Prague 14AAA
LOCATION:Union Hill\, Union Hill
TZID:America/Chicago
UID:mbl_game_167419
END:VEVENT
BEGIN:VEVENT
DTSTAMP:20260426T023008Z
DTSTART:20260522T193000
DTEND:20260522T213000
SUMMARY:#167420 New Prague 14AAA @ Waconia Wildcats
LOCATION:Norwood Young America Sports Complex\, Zellman Field
TZID:America/Chicago
UID:mbl_game_167420
END:VEVENT
BEGIN:VEVENT
DTSTAMP:20260426T023008Z
DTSTART:20260603T174500
DTEND:20260603T194500
SUMMARY:#167426 New Prague 14AAA @ Prior Lake 14AAA
LOCATION:Ryan\, Field #1
TZID:America/Chicago
UID:mbl_game_167426
END:VEVENT
BEGIN:VEVENT
DTSTAMP:20260426T023008Z
DTSTART:20260610T173000
DTEND:20260610T193000
SUMMARY:#167427 New Prague 14AAA @ Hopkins Royals
LOCATION:Big Willow\, Big Willow
TZID:America/Chicago
UID:mbl_game_167427
END:VEVENT
BEGIN:VEVENT
DTSTAMP:20260426T023008Z
DTSTART:20260504T183000
DTEND:20260504T203000
SUMMARY:#167432 Waconia Wildcats @ New Prague 14AAA
LOCATION:Union Hill\, Union Hill
TZID:America/Chicago
UID:mbl_game_167432
END:VEVENT
BEGIN:VEVENT
DTSTAMP:20260426T023008Z
DTSTART:20260514T180000
DTEND:20260514T200000
SUMMARY:#167434 New Prague 14AAA @ St. Peter Saints
LOCATION:Veterans Memorial Park\, Veterans Memorial Park #1
TZID:America/Chicago
UID:mbl_game_167434
END:VEVENT
BEGIN:VEVENT
DTSTAMP:20260426T023008Z
DTSTART:20260520T193000
DTEND:20260520T213000
SUMMARY:#167435 New Prague 14AAA @ Chanhassen 14AAA - Blue
LOCATION:Lake Susan\, Lake Susan
TZID:America/Chicago
UID:mbl_game_167435
END:VEVENT
BEGIN:VEVENT
DTSTAMP:20260426T023008Z
DTSTART:20260525T180000
DTEND:20260525T200000
SUMMARY:#167442 St. Peter Saints @ New Prague 14AAA
LOCATION:Union Hill\, Union Hill
TZID:America/Chicago
UID:mbl_game_167442
END:VEVENT
BEGIN:VEVENT
DTSTAMP:20260426T023008Z
DTSTART:20260506T183000
DTEND:20260506T203000
SUMMARY:#167450 Prior Lake 14AAA @ New Prague 14AAA
LOCATION:Union Hill\, Union Hill
TZID:America/Chicago
UID:mbl_game_167450
END:VEVENT
BEGIN:VEVENT
DTSTAMP:20260426T023008Z
DTSTART:20260608T190000
DTEND:20260608T210000
SUMMARY:#167455 New Prague 14AAA @ Chaska Hawks
LOCATION:Sunset Park\, Sunset Park
TZID:America/Chicago
UID:mbl_game_167455
END:VEVENT
END:VCALENDAR
