BEGIN:VCALENDAR
PRODID:-//Ben Fortuna//iCal4j 1.0//EN
VERSION:2.0
CALSCALE:GREGORIAN
X-WR-TIMEZONE:America/Chicago
DESCRIPTION:MBL Games
X-WR-CALNAME:MBL Games
BEGIN:VEVENT
DTSTAMP:20260426T022124Z
DTSTART:20260603T193000
DTEND:20260603T213000
SUMMARY:#167568 New Prague 14A @ Chanhassen 14A - Grey
LOCATION:Lake Susan\, Lake Susan
TZID:America/Chicago
UID:mbl_game_167568
END:VEVENT
BEGIN:VEVENT
DTSTAMP:20260426T022124Z
DTSTART:20260505T193000
DTEND:20260505T213000
SUMMARY:#167569 New Prague 14A @ Chanhassen 14A - Silver
LOCATION:Lake Susan\, Lake Susan
TZID:America/Chicago
UID:mbl_game_167569
END:VEVENT
BEGIN:VEVENT
DTSTAMP:20260426T022124Z
DTSTART:20260513T193000
DTEND:20260513T213000
SUMMARY:#167571 New Prague 14A @ Eden Prairie Eagles 14A+
LOCATION:Miller Park\, Field #8
TZID:America/Chicago
UID:mbl_game_167571
END:VEVENT
BEGIN:VEVENT
DTSTAMP:20260426T022124Z
DTSTART:20260617T183000
DTEND:20260617T203000
SUMMARY:#167715 Faribault Falcons @ New Prague 14A
LOCATION:New Prague High School\, New Prague High School North Field
TZID:America/Chicago
UID:mbl_game_167715
END:VEVENT
BEGIN:VEVENT
DTSTAMP:20260426T022124Z
DTSTART:20260510T140000
DTEND:20260510T160000
SUMMARY:#167720 Mankato Royals @ New Prague 14A
LOCATION:New Prague High School\, New Prague High School North Field
TZID:America/Chicago
UID:mbl_game_167720
END:VEVENT
BEGIN:VEVENT
DTSTAMP:20260426T022124Z
DTSTART:20260519T183000
DTEND:20260519T203000
SUMMARY:#167722 New Prague 14A @ Faribault Falcons
LOCATION:Faribault Middle School\, Field #1
TZID:America/Chicago
UID:mbl_game_167722
END:VEVENT
BEGIN:VEVENT
DTSTAMP:20260426T022124Z
DTSTART:20260504T180000
DTEND:20260504T200000
SUMMARY:#167723 New Prague 14A @ Mankato Royals
LOCATION:Eagle Lake Field\, Eagle Lake Field
TZID:America/Chicago
UID:mbl_game_167723
END:VEVENT
BEGIN:VEVENT
DTSTAMP:20260426T022124Z
DTSTART:20260608T183000
DTEND:20260608T203000
SUMMARY:#167724 New Prague 14A @ Morristown Warriors
LOCATION:Babe Nordmeier Field\, Babe Nordmeier Field
TZID:America/Chicago
UID:mbl_game_167724
END:VEVENT
BEGIN:VEVENT
DTSTAMP:20260426T022124Z
DTSTART:20260521T183000
DTEND:20260521T203000
SUMMARY:#167725 Morristown Warriors @ New Prague 14A
LOCATION:New Prague High School\, New Prague High School North Field
TZID:America/Chicago
UID:mbl_game_167725
END:VEVENT
BEGIN:VEVENT
DTSTAMP:20260426T022124Z
DTSTART:20260611T183000
DTEND:20260611T203000
SUMMARY:#167730 Owatonna Huskies 14A+ @ New Prague 14A
LOCATION:New Prague High School\, New Prague High School South Field
TZID:America/Chicago
UID:mbl_game_167730
END:VEVENT
BEGIN:VEVENT
DTSTAMP:20260426T022124Z
DTSTART:20260511T180000
DTEND:20260511T200000
SUMMARY:#167731 New Prague 14A @ Owatonna Huskies 14A+
LOCATION:Owatonna High School\, Field #1
TZID:America/Chicago
UID:mbl_game_167731
END:VEVENT
BEGIN:VEVENT
DTSTAMP:20260426T022124Z
DTSTART:20260429T180000
DTEND:20260429T200000
SUMMARY:#167735 Chanhassen 14A - Grey @ New Prague 14A
LOCATION:New Prague High School\, New Prague High School North Field
TZID:America/Chicago
UID:mbl_game_167735
END:VEVENT
BEGIN:VEVENT
DTSTAMP:20260426T022124Z
DTSTART:20260610T183000
DTEND:20260610T203000
SUMMARY:#167740 Chanhassen 14A - Silver @ New Prague 14A
LOCATION:New Prague High School\, New Prague High School North Field
TZID:America/Chicago
UID:mbl_game_167740
END:VEVENT
BEGIN:VEVENT
DTSTAMP:20260426T022124Z
DTSTART:20260528T183000
DTEND:20260528T203000
SUMMARY:#167745 Eden Prairie Eagles 14A+ @ New Prague 14A
LOCATION:New Prague High School\, New Prague High School North Field
TZID:America/Chicago
UID:mbl_game_167745
END:VEVENT
END:VCALENDAR
