BEGIN:VCALENDAR
PRODID:-//Ben Fortuna//iCal4j 1.0//EN
VERSION:2.0
CALSCALE:GREGORIAN
X-WR-TIMEZONE:America/Chicago
DESCRIPTION:MBL Games
X-WR-CALNAME:MBL Games
BEGIN:VEVENT
DTSTAMP:20260419T151444Z
DTSTART:20260513T180000
DTEND:20260513T200000
SUMMARY:#168890 Rosemount Irish 11AA Green @ Cannon Falls Bombers
LOCATION:Cannon Falls - City Softball Fields\, Field #3
TZID:America/Chicago
UID:mbl_game_168890
END:VEVENT
BEGIN:VEVENT
DTSTAMP:20260419T151444Z
DTSTART:20260429T180000
DTEND:20260429T200000
SUMMARY:#168891 Cannon Falls Bombers @ Cottage Grove 11AA
LOCATION:Woodridge\, North
TZID:America/Chicago
UID:mbl_game_168891
END:VEVENT
BEGIN:VEVENT
DTSTAMP:20260419T151444Z
DTSTART:20260618T180000
DTEND:20260618T200000
SUMMARY:#168892 Cannon Falls Bombers @ Hastings 11AA
LOCATION:Wallin Park\, Wallin Park East
TZID:America/Chicago
UID:mbl_game_168892
END:VEVENT
BEGIN:VEVENT
DTSTAMP:20260419T151444Z
DTSTART:20260616T190000
DTEND:20260616T210000
SUMMARY:#168898 Prescott Cardinal 11U (Wam) @ Cannon Falls Bombers
LOCATION:Cannon Falls - City Softball Fields\, Field #4
TZID:America/Chicago
UID:mbl_game_168898
END:VEVENT
BEGIN:VEVENT
DTSTAMP:20260419T151444Z
DTSTART:20260623T193000
DTEND:20260623T213000
SUMMARY:#168906 Red Wing 11AA @ Cannon Falls Bombers
LOCATION:Cannon Falls - City Softball Fields\, Field #4
TZID:America/Chicago
UID:mbl_game_168906
END:VEVENT
BEGIN:VEVENT
DTSTAMP:20260419T151444Z
DTSTART:20260526T190000
DTEND:20260526T210000
SUMMARY:#168911 Cannon Falls Bombers @ Red Wing 11AA
LOCATION:Athletic Field\, Field #2
TZID:America/Chicago
UID:mbl_game_168911
END:VEVENT
BEGIN:VEVENT
DTSTAMP:20260419T151444Z
DTSTART:20260609T180000
DTEND:20260609T200000
SUMMARY:#168913 Cannon Falls Bombers @ Two Rivers Warriors 11AA
LOCATION:Cannon Falls - City Softball Fields\, Field #4
TZID:America/Chicago
UID:mbl_game_168913
END:VEVENT
BEGIN:VEVENT
DTSTAMP:20260419T151444Z
DTSTART:20260521T193000
DTEND:20260521T213000
SUMMARY:#168914 Inver Grove Hts Spartans 11AA @ Cannon Falls Bombers
LOCATION:Cannon Falls - City Softball Fields\, Field #4
TZID:America/Chicago
UID:mbl_game_168914
END:VEVENT
BEGIN:VEVENT
DTSTAMP:20260419T151444Z
DTSTART:20260505T180000
DTEND:20260505T200000
SUMMARY:#168917 Cannon Falls Bombers @ Inver Grove Hts Spartans 11AA
LOCATION:Rich Valley\, Field #2
TZID:America/Chicago
UID:mbl_game_168917
END:VEVENT
BEGIN:VEVENT
DTSTAMP:20260419T151444Z
DTSTART:20260609T200000
DTEND:20260609T220000
SUMMARY:#168922 Two Rivers Warriors 11AA @ Cannon Falls Bombers
LOCATION:Cannon Falls - City Softball Fields\, Field #4
TZID:America/Chicago
UID:mbl_game_168922
END:VEVENT
BEGIN:VEVENT
DTSTAMP:20260419T151444Z
DTSTART:20260518T180000
DTEND:20260518T200000
SUMMARY:#168930 Rochester Tornadoes 11AA White @ Cannon Falls Bombers
LOCATION:Cannon Falls - City Softball Fields\, Field #3
TZID:America/Chicago
UID:mbl_game_168930
END:VEVENT
BEGIN:VEVENT
DTSTAMP:20260419T151444Z
DTSTART:20260514T180000
DTEND:20260514T200000
SUMMARY:#168938 Kasson-Mantorville K-M 11AA @ Cannon Falls Bombers
LOCATION:Cannon Falls - City Softball Fields\, Field #3
TZID:America/Chicago
UID:mbl_game_168938
END:VEVENT
BEGIN:VEVENT
DTSTAMP:20260419T151444Z
DTSTART:20260504T180000
DTEND:20260504T200000
SUMMARY:#168986 Cannon Falls Bombers @ Kasson-Mantorville K-M 11AA
LOCATION:North Park\, Veterans Memorial Field
TZID:America/Chicago
UID:mbl_game_168986
END:VEVENT
BEGIN:VEVENT
DTSTAMP:20260419T151444Z
DTSTART:20260427T180000
DTEND:20260427T200000
SUMMARY:#168988 Cannon Falls Bombers @ Rochester Tornadoes 11AA White
LOCATION:Rochester Baseball Complex\, Field #6
TZID:America/Chicago
UID:mbl_game_168988
END:VEVENT
END:VCALENDAR
