BEGIN:VCALENDAR
PRODID:-//Ben Fortuna//iCal4j 1.0//EN
VERSION:2.0
CALSCALE:GREGORIAN
X-WR-TIMEZONE:America/Chicago
DESCRIPTION:MBL Games
X-WR-CALNAME:MBL Games
BEGIN:VEVENT
DTSTAMP:20260419T151427Z
DTSTART:20260518T180000
DTEND:20260518T200000
SUMMARY:#169411 Cottage Grove 13A White @ Cannon Falls Cannon Falls 13A
LOCATION:Cannon Falls - City Softball Fields\, Field #4
TZID:America/Chicago
UID:mbl_game_169411
END:VEVENT
BEGIN:VEVENT
DTSTAMP:20260419T151427Z
DTSTART:20260527T180000
DTEND:20260527T200000
SUMMARY:#169412 Cannon Falls Cannon Falls 13A @ Cottage Grove 13A Black
LOCATION:Hamlet\, Field #2
TZID:America/Chicago
UID:mbl_game_169412
END:VEVENT
BEGIN:VEVENT
DTSTAMP:20260419T151427Z
DTSTART:20260604T180000
DTEND:20260604T203000
SUMMARY:#169416 Cannon Falls Cannon Falls 13A @ Inver Grove Hts Spartans 
 13A
LOCATION:Rich Valley\, Field #6
TZID:America/Chicago
UID:mbl_game_169416
END:VEVENT
BEGIN:VEVENT
DTSTAMP:20260419T151427Z
DTSTART:20260624T180000
DTEND:20260624T200000
SUMMARY:#169418 Cannon Falls Cannon Falls 13A @ Prescott Cardinal 13U (We
 stberg)
LOCATION:First National Bank\, Field 3
TZID:America/Chicago
UID:mbl_game_169418
END:VEVENT
BEGIN:VEVENT
DTSTAMP:20260419T151427Z
DTSTART:20260625T180000
DTEND:20260625T200000
SUMMARY:#169422 Cannon Falls Cannon Falls 13A @ South St. Paul Packers
LOCATION:Kaposia Landing\, Field #1
TZID:America/Chicago
UID:mbl_game_169422
END:VEVENT
BEGIN:VEVENT
DTSTAMP:20260419T151427Z
DTSTART:20260611T180000
DTEND:20260611T200000
SUMMARY:#169423 Cannon Falls Cannon Falls 13A @ West St. Paul Warriors
LOCATION:West St. Paul Complex\, Field #3
TZID:America/Chicago
UID:mbl_game_169423
END:VEVENT
BEGIN:VEVENT
DTSTAMP:20260419T151427Z
DTSTART:20260608T180000
DTEND:20260608T200000
SUMMARY:#169424 Ellsworth 13A @ Cannon Falls Cannon Falls 13A
LOCATION:Cannon Falls - City Softball Fields\, Field #4
TZID:America/Chicago
UID:mbl_game_169424
END:VEVENT
BEGIN:VEVENT
DTSTAMP:20260419T151427Z
DTSTART:20260601T180000
DTEND:20260601T200000
SUMMARY:#169437 Hastings 13A @ Cannon Falls Cannon Falls 13A
LOCATION:Cannon Falls - City Softball Fields\, Field #4
TZID:America/Chicago
UID:mbl_game_169437
END:VEVENT
BEGIN:VEVENT
DTSTAMP:20260419T151427Z
DTSTART:20260605T190000
DTEND:20260605T210000
SUMMARY:#169450 New Richmond Tigers @ Cannon Falls Cannon Falls 13A
LOCATION:Cannon Falls - City Softball Fields\, Field #4
TZID:America/Chicago
UID:mbl_game_169450
END:VEVENT
BEGIN:VEVENT
DTSTAMP:20260419T151427Z
DTSTART:20260615T180000
DTEND:20260615T200000
SUMMARY:#169463 River Falls Wildcats @ Cannon Falls Cannon Falls 13A
LOCATION:Cannon Falls - City Softball Fields\, Field #4
TZID:America/Chicago
UID:mbl_game_169463
END:VEVENT
BEGIN:VEVENT
DTSTAMP:20260419T151427Z
DTSTART:20260618T180000
DTEND:20260618T200000
SUMMARY:#169476 Red Wing 13A @ Cannon Falls Cannon Falls 13A
LOCATION:Cannon Falls - City Softball Fields\, Field #4
TZID:America/Chicago
UID:mbl_game_169476
END:VEVENT
BEGIN:VEVENT
DTSTAMP:20260419T151427Z
DTSTART:20260521T180000
DTEND:20260521T200000
SUMMARY:#169486 Cannon Falls Cannon Falls 13A @ Rosemount Irish 13A Green
 
LOCATION:Erickson Park\, Field #1
TZID:America/Chicago
UID:mbl_game_169486
END:VEVENT
BEGIN:VEVENT
DTSTAMP:20260419T151427Z
DTSTART:20260622T180000
DTEND:20260622T200000
SUMMARY:#169489 Rosemount Irish 13A Green @ Cannon Falls Cannon Falls 13A
 
LOCATION:Cannon Falls - City Softball Fields\, Field #4
TZID:America/Chicago
UID:mbl_game_169489
END:VEVENT
BEGIN:VEVENT
DTSTAMP:20260419T151427Z
DTSTART:20260526T180000
DTEND:20260526T203000
SUMMARY:#169497 Cannon Falls Cannon Falls 13A @ Red Wing 13A
LOCATION:A P Anderson Park\, Field #4
TZID:America/Chicago
UID:mbl_game_169497
END:VEVENT
END:VCALENDAR
