BEGIN:VCALENDAR
PRODID:-//Ben Fortuna//iCal4j 1.0//EN
VERSION:2.0
CALSCALE:GREGORIAN
X-WR-TIMEZONE:America/Chicago
DESCRIPTION:MBL Games
X-WR-CALNAME:MBL Games
BEGIN:VEVENT
DTSTAMP:20260419T121412Z
DTSTART:20260521T180000
DTEND:20260521T200000
SUMMARY:#167662 Cannon Falls Bombers @ West St. Paul Warriors
LOCATION:Harmon Park\, Wolters # 5 Varsity Field
TZID:America/Chicago
UID:mbl_game_167662
END:VEVENT
BEGIN:VEVENT
DTSTAMP:20260419T121412Z
DTSTART:20260528T180000
DTEND:20260528T200000
SUMMARY:#167663 Farmington Tigers @ Cannon Falls Bombers
LOCATION:Cannon Falls High School\, Frank Hawks Field
TZID:America/Chicago
UID:mbl_game_167663
END:VEVENT
BEGIN:VEVENT
DTSTAMP:20260419T121412Z
DTSTART:20260526T180000
DTEND:20260526T200000
SUMMARY:#167670 Morristown Warriors @ Cannon Falls Bombers
LOCATION:Cannon Falls - City Softball Fields\, Field #4
TZID:America/Chicago
UID:mbl_game_167670
END:VEVENT
BEGIN:VEVENT
DTSTAMP:20260419T121412Z
DTSTART:20260611T180000
DTEND:20260611T200000
SUMMARY:#167677 Rosemount Irish 14A+ @ Cannon Falls Bombers
LOCATION:Cannon Falls High School\, Frank Hawks Field
TZID:America/Chicago
UID:mbl_game_167677
END:VEVENT
BEGIN:VEVENT
DTSTAMP:20260419T121412Z
DTSTART:20260608T180000
DTEND:20260608T200000
SUMMARY:#167684 Eastview Lightning @ Cannon Falls Bombers
LOCATION:Cannon Falls High School\, Frank Hawks Field
TZID:America/Chicago
UID:mbl_game_167684
END:VEVENT
BEGIN:VEVENT
DTSTAMP:20260419T121412Z
DTSTART:20260622T174500
DTEND:20260622T194500
SUMMARY:#167685 Cannon Falls Bombers @ Eastview Lightning
LOCATION:Quarry Point\, Field # 1
TZID:America/Chicago
UID:mbl_game_167685
END:VEVENT
BEGIN:VEVENT
DTSTAMP:20260419T121412Z
DTSTART:20260617T200000
DTEND:20260617T220000
SUMMARY:#167687 Cannon Falls Bombers @ Lakeville 14A
LOCATION:King\, Field #1
TZID:America/Chicago
UID:mbl_game_167687
END:VEVENT
BEGIN:VEVENT
DTSTAMP:20260419T121412Z
DTSTART:20260519T180000
DTEND:20260519T200000
SUMMARY:#167688 Cannon Falls Bombers @ Randolph 14A+
LOCATION:Randolph BB Field\, Randolph HS Field
TZID:America/Chicago
UID:mbl_game_167688
END:VEVENT
BEGIN:VEVENT
DTSTAMP:20260419T121412Z
DTSTART:20260603T180000
DTEND:20260603T200000
SUMMARY:#167689 Cannon Falls Bombers @ Rochester Tornadoes 14A Teal
LOCATION:Rochester Baseball Complex\, Field #1
TZID:America/Chicago
UID:mbl_game_167689
END:VEVENT
BEGIN:VEVENT
DTSTAMP:20260419T121412Z
DTSTART:20260601T180000
DTEND:20260601T203000
SUMMARY:#167690 Cannon Falls Bombers @ Rosemount Irish 14A+
LOCATION:Rosemount High School\, Sophmore Field
TZID:America/Chicago
UID:mbl_game_167690
END:VEVENT
BEGIN:VEVENT
DTSTAMP:20260419T121412Z
DTSTART:20260609T180000
DTEND:20260609T200000
SUMMARY:#167691 Randolph 14A+ @ Cannon Falls Bombers
LOCATION:Cannon Falls High School\, Frank Hawks Field
TZID:America/Chicago
UID:mbl_game_167691
END:VEVENT
BEGIN:VEVENT
DTSTAMP:20260419T121412Z
DTSTART:20260616T180000
DTEND:20260616T200000
SUMMARY:#167698 Rochester Tornadoes 14A Teal @ Cannon Falls Bombers
LOCATION:Cannon Falls High School\, Frank Hawks Field
TZID:America/Chicago
UID:mbl_game_167698
END:VEVENT
BEGIN:VEVENT
DTSTAMP:20260419T121412Z
DTSTART:20260602T180000
DTEND:20260602T200000
SUMMARY:#167705 South St. Paul Packers @ Cannon Falls Bombers
LOCATION:Cannon Falls High School\, Frank Hawks Field
TZID:America/Chicago
UID:mbl_game_167705
END:VEVENT
BEGIN:VEVENT
DTSTAMP:20260419T121412Z
DTSTART:20260526T200000
DTEND:20260526T220000
SUMMARY:#167739 Cannon Falls Bombers @ Morristown Warriors
LOCATION:Cannon Falls - City Softball Fields\, Field #4
TZID:America/Chicago
UID:mbl_game_167739
END:VEVENT
END:VCALENDAR
