BEGIN:VCALENDAR
PRODID:-//Ben Fortuna//iCal4j 1.0//EN
VERSION:2.0
CALSCALE:GREGORIAN
X-WR-TIMEZONE:America/Chicago
DESCRIPTION:MBL Games
X-WR-CALNAME:MBL Games
BEGIN:VEVENT
DTSTAMP:20260419T215545Z
DTSTART:20260526T174500
DTEND:20260526T194500
SUMMARY:#168874 Rosemount Irish 11AA Green @ Lakeville North
LOCATION:King\, Field #9
TZID:America/Chicago
UID:mbl_game_168874
END:VEVENT
BEGIN:VEVENT
DTSTAMP:20260419T215545Z
DTSTART:20260513T180000
DTEND:20260513T200000
SUMMARY:#168890 Rosemount Irish 11AA Green @ Cannon Falls Bombers
LOCATION:Cannon Falls - City Softball Fields\, Field #3
TZID:America/Chicago
UID:mbl_game_168890
END:VEVENT
BEGIN:VEVENT
DTSTAMP:20260419T215545Z
DTSTART:20260625T180000
DTEND:20260625T200000
SUMMARY:#168896 Red Wing 11AA @ Rosemount Irish 11AA Green
LOCATION:Erickson Park\, Field #2
TZID:America/Chicago
UID:mbl_game_168896
END:VEVENT
BEGIN:VEVENT
DTSTAMP:20260419T215545Z
DTSTART:20260603T180000
DTEND:20260603T200000
SUMMARY:#168901 Rosemount Irish 11AA Green @ Inver Grove Hts Spartans 11A
 A
LOCATION:Rich Valley\, Field #1
TZID:America/Chicago
UID:mbl_game_168901
END:VEVENT
BEGIN:VEVENT
DTSTAMP:20260419T215545Z
DTSTART:20260519T180000
DTEND:20260519T200000
SUMMARY:#168904 Inver Grove Hts Spartans 11AA @ Rosemount Irish 11AA Gree
 n
LOCATION:UMore\, Field #1
TZID:America/Chicago
UID:mbl_game_168904
END:VEVENT
BEGIN:VEVENT
DTSTAMP:20260419T215545Z
DTSTART:20260618T180000
DTEND:20260618T200000
SUMMARY:#168910 Rosemount Irish 11AA Green @ Prescott Cardinal 11U (Wam)
LOCATION:First National Bank\, Field 2
TZID:America/Chicago
UID:mbl_game_168910
END:VEVENT
BEGIN:VEVENT
DTSTAMP:20260419T215545Z
DTSTART:20260505T180000
DTEND:20260505T200000
SUMMARY:#168912 Prescott Cardinal 11U (Wam) @ Rosemount Irish 11AA Green
LOCATION:Erickson Park\, Field #5
TZID:America/Chicago
UID:mbl_game_168912
END:VEVENT
BEGIN:VEVENT
DTSTAMP:20260419T215545Z
DTSTART:20260422T180000
DTEND:20260422T200000
SUMMARY:#168920 Rosemount Irish 11AA Green @ Two Rivers Warriors 11AA
LOCATION:Hagstrom\, Hagstrom King Park
TZID:America/Chicago
UID:mbl_game_168920
END:VEVENT
BEGIN:VEVENT
DTSTAMP:20260419T215545Z
DTSTART:20260608T180000
DTEND:20260608T200000
SUMMARY:#168923 Rosemount Irish 11AA Green @ Cottage Grove 11AA
LOCATION:Woodridge\, North
TZID:America/Chicago
UID:mbl_game_168923
END:VEVENT
BEGIN:VEVENT
DTSTAMP:20260419T215545Z
DTSTART:20260426T180000
DTEND:20260426T200000
SUMMARY:#168928 Cottage Grove 11AA @ Rosemount Irish 11AA Green
LOCATION:Erickson Park\, Field #1
TZID:America/Chicago
UID:mbl_game_168928
END:VEVENT
BEGIN:VEVENT
DTSTAMP:20260419T215545Z
DTSTART:20260521T180000
DTEND:20260521T200000
SUMMARY:#168929 Two Rivers Warriors 11AA @ Rosemount Irish 11AA Green
LOCATION:UMore\, Field #1
TZID:America/Chicago
UID:mbl_game_168929
END:VEVENT
BEGIN:VEVENT
DTSTAMP:20260419T215545Z
DTSTART:20260428T180000
DTEND:20260428T200000
SUMMARY:#168936 Hastings 11AA @ Rosemount Irish 11AA Green
LOCATION:Erickson Park\, Field #5
TZID:America/Chicago
UID:mbl_game_168936
END:VEVENT
BEGIN:VEVENT
DTSTAMP:20260419T215545Z
DTSTART:20260623T180000
DTEND:20260623T200000
SUMMARY:#168940 Rosemount Irish 11AA Green @ Hastings 11AA
LOCATION:Wallin Park\, Wallin Park East
TZID:America/Chicago
UID:mbl_game_168940
END:VEVENT
BEGIN:VEVENT
DTSTAMP:20260419T215545Z
DTSTART:20260512T180000
DTEND:20260512T200000
SUMMARY:#168944 Eastview Lightning @ Rosemount Irish 11AA Green
LOCATION:Erickson Park\, Field #5
TZID:America/Chicago
UID:mbl_game_168944
END:VEVENT
END:VCALENDAR
