BEGIN:VCALENDAR
PRODID:-//Ben Fortuna//iCal4j 1.0//EN
VERSION:2.0
CALSCALE:GREGORIAN
X-WR-TIMEZONE:America/Chicago
DESCRIPTION:MBL Games
X-WR-CALNAME:MBL Games
BEGIN:VEVENT
DTSTAMP:20260426T035755Z
DTSTART:20260615T193000
DTEND:20260615T213000
SUMMARY:#167803 Edina 9A White @ Edina 9A Green
LOCATION:Courtney (formerly Braemar)\, Field #4
TZID:America/Chicago
UID:mbl_game_167803
END:VEVENT
BEGIN:VEVENT
DTSTAMP:20260426T035755Z
DTSTART:20260427T173000
DTEND:20260427T193000
SUMMARY:#167804 Edina 9A Green @ Edina 9A White
LOCATION:Courtney (formerly Braemar)\, Field #4
TZID:America/Chicago
UID:mbl_game_167804
END:VEVENT
BEGIN:VEVENT
DTSTAMP:20260426T035755Z
DTSTART:20260506T173000
DTEND:20260506T193000
SUMMARY:#167805 Edina 9A Green @ Minnetonka 9A Blue - Mielke
LOCATION:Freeman Park\, Field #1
TZID:America/Chicago
UID:mbl_game_167805
END:VEVENT
BEGIN:VEVENT
DTSTAMP:20260426T035755Z
DTSTART:20260627T084500
DTEND:20260627T104500
SUMMARY:#167806 Edina 9A Green @ Minnetonka 9A White - Loula
LOCATION:Bennett Park\, Field #4
TZID:America/Chicago
UID:mbl_game_167806
END:VEVENT
BEGIN:VEVENT
DTSTAMP:20260426T035755Z
DTSTART:20260520T174500
DTEND:20260520T194500
SUMMARY:#167807 Edina 9A Green @ Wayzata 9A Blue
LOCATION:Plymouth Creek Park\, Field #2
TZID:America/Chicago
UID:mbl_game_167807
END:VEVENT
BEGIN:VEVENT
DTSTAMP:20260426T035755Z
DTSTART:20260624T193000
DTEND:20260624T213000
SUMMARY:#167808 Minnetonka 9A Blue - Mielke @ Edina 9A Green
LOCATION:Courtney (formerly Braemar)\, Field #4
TZID:America/Chicago
UID:mbl_game_167808
END:VEVENT
BEGIN:VEVENT
DTSTAMP:20260426T035755Z
DTSTART:20260504T173000
DTEND:20260504T193000
SUMMARY:#167813 Minnetonka 9A White - Loula @ Edina 9A Green
LOCATION:Courtney (formerly Braemar)\, Field #4
TZID:America/Chicago
UID:mbl_game_167813
END:VEVENT
BEGIN:VEVENT
DTSTAMP:20260426T035755Z
DTSTART:20260603T193000
DTEND:20260603T213000
SUMMARY:#167818 Wayzata 9A Blue @ Edina 9A Green
LOCATION:Courtney (formerly Braemar)\, Field #4
TZID:America/Chicago
UID:mbl_game_167818
END:VEVENT
BEGIN:VEVENT
DTSTAMP:20260426T035755Z
DTSTART:20260511T173000
DTEND:20260511T193000
SUMMARY:#167823 New Prague 9A @ Edina 9A Green
LOCATION:Courtney (formerly Braemar)\, Field #4
TZID:America/Chicago
UID:mbl_game_167823
END:VEVENT
BEGIN:VEVENT
DTSTAMP:20260426T035755Z
DTSTART:20260617T183000
DTEND:20260617T203000
SUMMARY:#167828 Rosemount Irish 9A @ Edina 9A Green
LOCATION:Countryside Park\, Countryside LL
TZID:America/Chicago
UID:mbl_game_167828
END:VEVENT
BEGIN:VEVENT
DTSTAMP:20260426T035755Z
DTSTART:20260527T180000
DTEND:20260527T200000
SUMMARY:#167853 Edina 9A Green @ Belle Plaine Tigers
LOCATION:Fountain Park\, Fountain Park
TZID:America/Chicago
UID:mbl_game_167853
END:VEVENT
BEGIN:VEVENT
DTSTAMP:20260426T035755Z
DTSTART:20260609T180000
DTEND:20260609T200000
SUMMARY:#167859 Edina 9A Green @ Jordan Hubmen
LOCATION:Jordan High School\, Field #4
TZID:America/Chicago
UID:mbl_game_167859
END:VEVENT
END:VCALENDAR
