BEGIN:VCALENDAR
PRODID:-//Ben Fortuna//iCal4j 1.0//EN
VERSION:2.0
CALSCALE:GREGORIAN
X-WR-TIMEZONE:America/Chicago
DESCRIPTION:MBL Games
X-WR-CALNAME:MBL Games
BEGIN:VEVENT
DTSTAMP:20260425T212356Z
DTSTART:20260507T173000
DTEND:20260507T193000
SUMMARY:#167054 Westonka 12A @ Orono Spartans
LOCATION:Holbrook\, Holbrook Field
TZID:America/Chicago
UID:mbl_game_167054
END:VEVENT
BEGIN:VEVENT
DTSTAMP:20260425T212356Z
DTSTART:20260511T180000
DTEND:20260511T200000
SUMMARY:#167069 Orono Spartans @ New Prague 12A
LOCATION:CEC Field\, CEC Field
TZID:America/Chicago
UID:mbl_game_167069
END:VEVENT
BEGIN:VEVENT
DTSTAMP:20260425T212356Z
DTSTART:20260616T193000
DTEND:20260616T213000
SUMMARY:#167073 New Prague 12A @ Orono Spartans
LOCATION:Holbrook\, Holbrook Field
TZID:America/Chicago
UID:mbl_game_167073
END:VEVENT
BEGIN:VEVENT
DTSTAMP:20260425T212356Z
DTSTART:20260425T110000
DTEND:20260425T130000
SUMMARY:#167079 Minneapolis Millers 12A Blue @ Orono Spartans
LOCATION:Holbrook\, Holbrook Field
TZID:America/Chicago
UID:mbl_game_167079
END:VEVENT
BEGIN:VEVENT
DTSTAMP:20260425T212356Z
DTSTART:20260609T193000
DTEND:20260609T213000
SUMMARY:#167083 Prior Lake 12A Gold @ Orono Spartans
LOCATION:Holbrook\, Holbrook Field
TZID:America/Chicago
UID:mbl_game_167083
END:VEVENT
BEGIN:VEVENT
DTSTAMP:20260425T212356Z
DTSTART:20260509T140000
DTEND:20260509T160000
SUMMARY:#167084 Chaska Hawks @ Orono Spartans
LOCATION:Holbrook\, Holbrook Field
TZID:America/Chicago
UID:mbl_game_167084
END:VEVENT
BEGIN:VEVENT
DTSTAMP:20260425T212356Z
DTSTART:20260625T183000
DTEND:20260625T203000
SUMMARY:#167088 Orono Spartans @ Edina Gold 12A
LOCATION:Countryside Park\, Countryside Prep
TZID:America/Chicago
UID:mbl_game_167088
END:VEVENT
BEGIN:VEVENT
DTSTAMP:20260425T212356Z
DTSTART:20260528T180000
DTEND:20260528T200000
SUMMARY:#167090 Orono Spartans @ Waconia Wildcats
LOCATION:Waconia High School\, West B
TZID:America/Chicago
UID:mbl_game_167090
END:VEVENT
BEGIN:VEVENT
DTSTAMP:20260425T212356Z
DTSTART:20260601T174500
DTEND:20260601T194500
SUMMARY:#167098 Orono Spartans @ Prior Lake 12A Navy
LOCATION:Ryan\, Field #2
TZID:America/Chicago
UID:mbl_game_167098
END:VEVENT
BEGIN:VEVENT
DTSTAMP:20260425T212356Z
DTSTART:20260527T180000
DTEND:20260527T200000
SUMMARY:#167100 Orono Spartans @ Shakopee Sabers
LOCATION:Green Meadow\, Green Meadow Park
TZID:America/Chicago
UID:mbl_game_167100
END:VEVENT
BEGIN:VEVENT
DTSTAMP:20260425T212356Z
DTSTART:20260617T173000
DTEND:20260617T193000
SUMMARY:#167101 Prior Lake 12A Navy @ Orono Spartans
LOCATION:Holbrook\, Holbrook Field
TZID:America/Chicago
UID:mbl_game_167101
END:VEVENT
BEGIN:VEVENT
DTSTAMP:20260425T212356Z
DTSTART:20260429T193000
DTEND:20260429T213000
SUMMARY:#167116 Chanhassen 12A - Silver @ Orono Spartans
LOCATION:Holbrook\, Holbrook Field
TZID:America/Chicago
UID:mbl_game_167116
END:VEVENT
BEGIN:VEVENT
DTSTAMP:20260425T212356Z
DTSTART:20260521T193000
DTEND:20260521T213000
SUMMARY:#167125 Orono Spartans @ Chanhassen 12A - Silver
LOCATION:Lake Ann\, Field #6
TZID:America/Chicago
UID:mbl_game_167125
END:VEVENT
BEGIN:VEVENT
DTSTAMP:20260425T212356Z
DTSTART:20260623T194500
DTEND:20260623T214500
SUMMARY:#167127 Orono Spartans @ Prior Lake 12A Gold
LOCATION:Ryan\, Field #3
TZID:America/Chicago
UID:mbl_game_167127
END:VEVENT
END:VCALENDAR
