BEGIN:VCALENDAR
PRODID:-//Ben Fortuna//iCal4j 1.0//EN
VERSION:2.0
CALSCALE:GREGORIAN
X-WR-TIMEZONE:America/Chicago
DESCRIPTION:MBL Games
X-WR-CALNAME:MBL Games
BEGIN:VEVENT
DTSTAMP:20260419T121432Z
DTSTART:20260521T190000
DTEND:20260521T210000
SUMMARY:#167658 Lakeville 14A @ Eagan Wildcats
LOCATION:Goat Hill Park\, Big Goat
TZID:America/Chicago
UID:mbl_game_167658
END:VEVENT
BEGIN:VEVENT
DTSTAMP:20260419T121432Z
DTSTART:20260511T191500
DTEND:20260511T211500
SUMMARY:#167666 Farmington Tigers @ Lakeville 14A
LOCATION:King\, Field #2
TZID:America/Chicago
UID:mbl_game_167666
END:VEVENT
BEGIN:VEVENT
DTSTAMP:20260419T121432Z
DTSTART:20260506T174500
DTEND:20260506T194500
SUMMARY:#167671 Lakeville 14A @ Eastview Lightning
LOCATION:Quarry Point\, Field # 1
TZID:America/Chicago
UID:mbl_game_167671
END:VEVENT
BEGIN:VEVENT
DTSTAMP:20260419T121432Z
DTSTART:20260611T180000
DTEND:20260611T200000
SUMMARY:#167672 Lakeville 14A @ Farmington Tigers
LOCATION:Farmington High School\, Field #1
TZID:America/Chicago
UID:mbl_game_167672
END:VEVENT
BEGIN:VEVENT
DTSTAMP:20260419T121432Z
DTSTART:20260610T174500
DTEND:20260610T194500
SUMMARY:#167673 Eastview Lightning @ Lakeville 14A
LOCATION:King\, Field #1
TZID:America/Chicago
UID:mbl_game_167673
END:VEVENT
BEGIN:VEVENT
DTSTAMP:20260419T121432Z
DTSTART:20260529T180000
DTEND:20260529T200000
SUMMARY:#167674 Lakeville 14A @ Randolph 14A+
LOCATION:Randolph BB Field\, Randolph HS Field
TZID:America/Chicago
UID:mbl_game_167674
END:VEVENT
BEGIN:VEVENT
DTSTAMP:20260419T121432Z
DTSTART:20260505T180000
DTEND:20260505T200000
SUMMARY:#167675 Lakeville 14A @ Rochester Tornadoes 14A Teal
LOCATION:Rochester Baseball Complex\, Field #1
TZID:America/Chicago
UID:mbl_game_167675
END:VEVENT
BEGIN:VEVENT
DTSTAMP:20260419T121432Z
DTSTART:20260527T180000
DTEND:20260527T203000
SUMMARY:#167676 Lakeville 14A @ Rosemount Irish 14A+
LOCATION:Rosemount High School\, Sophmore Field
TZID:America/Chicago
UID:mbl_game_167676
END:VEVENT
BEGIN:VEVENT
DTSTAMP:20260419T121432Z
DTSTART:20260513T191500
DTEND:20260513T211500
SUMMARY:#167680 Rosemount Irish 14A+ @ Lakeville 14A
LOCATION:King\, Field #2
TZID:America/Chicago
UID:mbl_game_167680
END:VEVENT
BEGIN:VEVENT
DTSTAMP:20260419T121432Z
DTSTART:20260617T200000
DTEND:20260617T220000
SUMMARY:#167687 Cannon Falls Bombers @ Lakeville 14A
LOCATION:King\, Field #1
TZID:America/Chicago
UID:mbl_game_167687
END:VEVENT
BEGIN:VEVENT
DTSTAMP:20260419T121432Z
DTSTART:20260615T200000
DTEND:20260615T220000
SUMMARY:#167694 Faribault Falcons @ Lakeville 14A
LOCATION:King\, Field #1
TZID:America/Chicago
UID:mbl_game_167694
END:VEVENT
BEGIN:VEVENT
DTSTAMP:20260419T121432Z
DTSTART:20260601T174500
DTEND:20260601T194500
SUMMARY:#167701 Rochester Tornadoes 14A Teal @ Lakeville 14A
LOCATION:King\, Field #1
TZID:America/Chicago
UID:mbl_game_167701
END:VEVENT
BEGIN:VEVENT
DTSTAMP:20260419T121432Z
DTSTART:20260624T200000
DTEND:20260624T220000
SUMMARY:#167708 West St. Paul Warriors @ Lakeville 14A
LOCATION:King\, Field #1
TZID:America/Chicago
UID:mbl_game_167708
END:VEVENT
BEGIN:VEVENT
DTSTAMP:20260419T121432Z
DTSTART:20260603T183000
DTEND:20260603T203000
SUMMARY:#167737 Lakeville 14A @ Faribault Falcons
LOCATION:Faribault Middle School\, Field #1
TZID:America/Chicago
UID:mbl_game_167737
END:VEVENT
END:VCALENDAR
