BEGIN:VCALENDAR
PRODID:-//Ben Fortuna//iCal4j 1.0//EN
VERSION:2.0
CALSCALE:GREGORIAN
X-WR-TIMEZONE:America/Chicago
DESCRIPTION:MBL Games
X-WR-CALNAME:MBL Games
BEGIN:VEVENT
DTSTAMP:20260426T035923Z
DTSTART:20260618T180000
DTEND:20260618T200000
SUMMARY:#165873 Prior Lake 11A White @ Eden Prairie Eagles 11A
LOCATION:Miller Park\, Field #2
TZID:America/Chicago
UID:mbl_game_165873
END:VEVENT
BEGIN:VEVENT
DTSTAMP:20260426T035923Z
DTSTART:20260625T174500
DTEND:20260625T194500
SUMMARY:#165882 Chanhassen 11A - Silver @ Prior Lake 11A White
LOCATION:Ponds\, Field #5
TZID:America/Chicago
UID:mbl_game_165882
END:VEVENT
BEGIN:VEVENT
DTSTAMP:20260426T035923Z
DTSTART:20260610T174500
DTEND:20260610T194500
SUMMARY:#165889 Chaska Hawks @ Prior Lake 11A White
LOCATION:Ponds\, Field #5
TZID:America/Chicago
UID:mbl_game_165889
END:VEVENT
BEGIN:VEVENT
DTSTAMP:20260426T035923Z
DTSTART:20260507T174500
DTEND:20260507T194500
SUMMARY:#165896 New Prague 11A @ Prior Lake 11A White
LOCATION:Ponds\, Field #5
TZID:America/Chicago
UID:mbl_game_165896
END:VEVENT
BEGIN:VEVENT
DTSTAMP:20260426T035923Z
DTSTART:20260430T180000
DTEND:20260430T200000
SUMMARY:#165899 Prior Lake 11A White @ Bloomington New Team Blue
LOCATION:Hrbek Fields\, Field #6
TZID:America/Chicago
UID:mbl_game_165899
END:VEVENT
BEGIN:VEVENT
DTSTAMP:20260426T035923Z
DTSTART:20260616T193000
DTEND:20260616T213000
SUMMARY:#165900 Prior Lake 11A White @ Chanhassen 11A - Silver
LOCATION:Lake Ann\, Field #5
TZID:America/Chicago
UID:mbl_game_165900
END:VEVENT
BEGIN:VEVENT
DTSTAMP:20260426T035923Z
DTSTART:20260514T180000
DTEND:20260514T200000
SUMMARY:#165901 Prior Lake 11A White @ Chaska Hawks
LOCATION:Community Park\, Field #3
TZID:America/Chicago
UID:mbl_game_165901
END:VEVENT
BEGIN:VEVENT
DTSTAMP:20260426T035923Z
DTSTART:20260609T180000
DTEND:20260609T200000
SUMMARY:#165902 Prior Lake 11A White @ New Prague 11A
LOCATION:Foundry Hill Park\, Foundry Hill
TZID:America/Chicago
UID:mbl_game_165902
END:VEVENT
BEGIN:VEVENT
DTSTAMP:20260426T035923Z
DTSTART:20260528T174500
DTEND:20260528T194500
SUMMARY:#165903 Bloomington New Team Blue @ Prior Lake 11A White
LOCATION:Ponds\, Field #5
TZID:America/Chicago
UID:mbl_game_165903
END:VEVENT
BEGIN:VEVENT
DTSTAMP:20260426T035923Z
DTSTART:20260519T180000
DTEND:20260519T200000
SUMMARY:#165904 Prior Lake 11A White @ Shakopee Sabers
LOCATION:Westminster\, Field #2
TZID:America/Chicago
UID:mbl_game_165904
END:VEVENT
BEGIN:VEVENT
DTSTAMP:20260426T035923Z
DTSTART:20260622T180000
DTEND:20260622T200000
SUMMARY:#165905 Prior Lake 11A White @ Waconia Wildcats (Gold)
LOCATION:St Bonifacius Townsedge Field\, Townsedge Field
TZID:America/Chicago
UID:mbl_game_165905
END:VEVENT
BEGIN:VEVENT
DTSTAMP:20260426T035923Z
DTSTART:20260526T174500
DTEND:20260526T194500
SUMMARY:#165910 Shakopee Sabers @ Prior Lake 11A White
LOCATION:Ponds\, Field #5
TZID:America/Chicago
UID:mbl_game_165910
END:VEVENT
BEGIN:VEVENT
DTSTAMP:20260426T035923Z
DTSTART:20260505T194500
DTEND:20260505T214500
SUMMARY:#165917 Waconia Wildcats (Gold) @ Prior Lake 11A White
LOCATION:Ponds\, Field #5
TZID:America/Chicago
UID:mbl_game_165917
END:VEVENT
BEGIN:VEVENT
DTSTAMP:20260426T035923Z
DTSTART:20260601T174500
DTEND:20260601T194500
SUMMARY:#165924 Prior Lake 11A Gold @ Prior Lake 11A White
LOCATION:Ponds\, Field #2
TZID:America/Chicago
UID:mbl_game_165924
END:VEVENT
END:VCALENDAR
