BEGIN:VCALENDAR
PRODID:-//Ben Fortuna//iCal4j 1.0//EN
VERSION:2.0
CALSCALE:GREGORIAN
X-WR-TIMEZONE:America/Chicago
DESCRIPTION:MBL Games
X-WR-CALNAME:MBL Games
BEGIN:VEVENT
DTSTAMP:20260426T035755Z
DTSTART:20260504T180000
DTEND:20260504T200000
SUMMARY:#168780 Mankato Royals 11AA @ Belle Plaine Tigers
LOCATION:Meadow Park\, Field #2
TZID:America/Chicago
UID:mbl_game_168780
END:VEVENT
BEGIN:VEVENT
DTSTAMP:20260426T035755Z
DTSTART:20260502T150000
DTEND:20260502T163000
SUMMARY:#168786 Mankato Royals 11AA @ Tri-City United Titans
LOCATION:Trenda Memorial Park\, DRS Field
TZID:America/Chicago
UID:mbl_game_168786
END:VEVENT
BEGIN:VEVENT
DTSTAMP:20260426T035755Z
DTSTART:20260420T180000
DTEND:20260420T200000
SUMMARY:#168792 Mankato Royals 11AA @ St. Peter Saints
LOCATION:Jefferson Fields\, Jefferson Field #3
TZID:America/Chicago
UID:mbl_game_168792
END:VEVENT
BEGIN:VEVENT
DTSTAMP:20260426T035755Z
DTSTART:20260426T150000
DTEND:20260426T163000
SUMMARY:#168798 Austin Stars @ Mankato Royals 11AA
LOCATION:Rosa Parks School - Community Fields\, Field #1
TZID:America/Chicago
UID:mbl_game_168798
END:VEVENT
BEGIN:VEVENT
DTSTAMP:20260426T035755Z
DTSTART:20260521T180000
DTEND:20260521T200000
SUMMARY:#168802 Mankato Royals 11AA @ Belle Plaine Tigers
LOCATION:Rosa Parks School - Community Fields\, Field #1
TZID:America/Chicago
UID:mbl_game_168802
END:VEVENT
BEGIN:VEVENT
DTSTAMP:20260426T035755Z
DTSTART:20260426T163000
DTEND:20260426T183000
SUMMARY:#168804 Austin Stars @ Mankato Royals 11AA
LOCATION:Rosa Parks School - Community Fields\, Field #1
TZID:America/Chicago
UID:mbl_game_168804
END:VEVENT
BEGIN:VEVENT
DTSTAMP:20260426T035755Z
DTSTART:20260429T180000
DTEND:20260429T200000
SUMMARY:#168806 St. Peter Saints @ Mankato Royals 11AA
LOCATION:Rosa Parks School - Community Fields\, Field #1
TZID:America/Chicago
UID:mbl_game_168806
END:VEVENT
BEGIN:VEVENT
DTSTAMP:20260426T035755Z
DTSTART:20260502T130000
DTEND:20260502T143000
SUMMARY:#168807 Mankato Royals 11AA @ Tri-City United Titans
LOCATION:Trenda Memorial Park\, DRS Field
TZID:America/Chicago
UID:mbl_game_168807
END:VEVENT
END:VCALENDAR
